BEGIN:VCALENDAR
VERSION:2.0
PRODID:-//ChamberMaster//Event Calendar 2.0//EN
METHOD:PUBLISH
X-PUBLISHED-TTL:P3D
REFRESH-INTERVAL:P3D
CALSCALE:GREGORIAN
BEGIN:VEVENT
DTSTART:20260423T210000Z
DTEND:20260423T230000Z
X-MICROSOFT-CDO-ALLDAYEVENT:FALSE
SUMMARY:Just Looking: A Collection of Drawings and Musings by Linda Kauss
DESCRIPTION:Join multidisciplinary artist Linda Kauss for an evening celebrating Just Looking: A Collection of Drawings and Musings\, a deeply personal work rooted in creative exploration and intuition. Meet the artist\, hear selected readings\, and view the artwork behind the book. Copies of Just Looking will be available for purchase and signing.\n\nJust Looking began in 2005 as an exercise in creative play. With no set outcome in mind\, Kauss explored the movement of graphite and the subtle power of erasure\, allowing organic forms to emerge. The result is a series of unexpected\, evocative images moments of discovery that have shaped her ongoing artistic practice.\n\n\n\n\n\n\nAs her work evolved\, it began to draw interest from the health and wellness community. While exploring publication\, Kauss faced a serious health challenge that paused the project but not her creativity. She continued drawing and eventually returned to the book with renewed purpose. In 2025\, with encouragement from her artistic community\, Just Looking became a reality.
X-ALT-DESC;FMTTYPE=text/html:<div>\n<p>Join multidisciplinary artist Linda Kauss for an evening celebrating <em>Just Looking: A Collection of Drawings and Musings</em>\, a deeply personal work rooted in creative exploration and intuition. Meet the artist\, hear selected readings\, and view the artwork behind the book. Copies of <em>Just Looking</em> will be available for purchase and signing.</p>\n\n<p><em>Just Looking</em> began in 2005 as an exercise in creative play. With no set outcome in mind\, Kauss explored the movement of graphite and the subtle power of erasure\, allowing organic forms to emerge. The result is a series of unexpected\, evocative images&mdash\;moments of discovery that have shaped her ongoing artistic practice.</p>\n</div>\n\n<div>\n<div>\n<div>\n<div>\n<p>As her work evolved\, it began to draw interest from the health and wellness community. While exploring publication\, Kauss faced a serious health challenge that paused the project&mdash\;but not her creativity. She continued drawing and eventually returned to the book with renewed purpose. In 2025\, with encouragement from her artistic community\, <em>Just Looking</em> became a reality.</p>\n</div>\n</div>\n</div>\n</div>\n
LOCATION:The Cultural Center at Rocky Neck 6 Wonson Street\, Gloucester\, MA 01930
UID:e.2981.46947
SEQUENCE:3
DTSTAMP:20260423T082752Z
URL:http://business.capeannvacations.com/events/details/just-looking-a-collection-of-drawings-and-musings-by-linda-kauss-46947
END:VEVENT

END:VCALENDAR
