BEGIN:VCALENDAR
VERSION:2.0
PRODID:-//ChamberMaster//Event Calendar 2.0//EN
METHOD:PUBLISH
X-PUBLISHED-TTL:P3D
REFRESH-INTERVAL:P3D
CALSCALE:GREGORIAN
BEGIN:VEVENT
DTSTART:20191026T233000Z
DTEND:20191027T010000Z
X-MICROSOFT-CDO-ALLDAYEVENT:FALSE
SUMMARY:O'Carolan Etcetera Ensemble
DESCRIPTION:O'Carolan Etcetera Ensemble brings music from the time of the blind harper\, Turlough O'Carolan. Fiddle\, harpsichord\, flute\, guitar and hurdy-gurdy fill out tunes of yore in this ideal\, intimate space.
X-ALT-DESC;FMTTYPE=text/html:O&#39\;Carolan Etcetera Ensemble brings music from the time of the blind harper\, Turlough O&rsquo\;Carolan. Fiddle\, harpsichord\, flute\, guitar and hurdy-gurdy fill out tunes of yore in this ideal\, intimate space.
LOCATION:Annisquam Village Church 820 WashingtonSt.\, Gloucester MA
UID:e.2981.16831
SEQUENCE:3
DTSTAMP:20260421T015310Z
URL:http://business.capeannvacations.com/events/details/o-carolan-etcetera-ensemble-16831
END:VEVENT

END:VCALENDAR
