BEGIN:VCALENDAR
VERSION:2.0
PRODID:-//ChamberMaster//Event Calendar 2.0//EN
METHOD:PUBLISH
X-PUBLISHED-TTL:P3D
REFRESH-INTERVAL:P3D
CALSCALE:GREGORIAN
BEGIN:VEVENT
DTSTART;VALUE=DATE:20260418
DTEND;VALUE=DATE:20260601
TRANSP:TRANSPARENT
X-MICROSOFT-CDO-ALLDAYEVENT:TRUE
SUMMARY:Small Works 1 - Juried Artist Members\, Rockport Art Association & Museum
DESCRIPTION:Rockport Art Association & Museum\n\nSmall Works 1  - Juried Artist Members\n\nApril 18 - May 31\, 2026\n\nPearson Gallery
X-ALT-DESC;FMTTYPE=text/html:Rockport Art Association &amp\; Museum<br />\nSmall Works 1&nbsp\; - Juried Artist Members<br />\nApril 18 - May 31\, 2026<br />\nPearson Gallery<br />\n&nbsp\;
LOCATION:RAA&M 12 Main Street Rockport\, MA 01966
UID:e.2981.46933
SEQUENCE:3
DTSTAMP:20260421T221718Z
URL:http://business.capeannvacations.com/events/details/small-works-1-juried-artist-members-rockport-art-association-museum-46933
END:VEVENT

END:VCALENDAR
