BEGIN:VCALENDAR
VERSION:2.0
PRODID:-//ChamberMaster//Event Calendar 2.0//EN
METHOD:PUBLISH
X-PUBLISHED-TTL:P3D
REFRESH-INTERVAL:P3D
CALSCALE:GREGORIAN
BEGIN:VEVENT
DTSTART:20250222T140000Z
DTEND:20250222T220000Z
X-MICROSOFT-CDO-ALLDAYEVENT:FALSE
SUMMARY:1-Day Spoon Carving Workshop
DESCRIPTION:Why Spoon Carving? It's a perfect project for beginners: Spoon carving is a great introduction to woodworking- no prior experience needed!\n\nRelaxing and Therapeutic: Carving is a mindful\, calming process that helps you focus and unwind.\n\nIt's Functional Art: Take home a beautiful\, hand-carved spoon\, perfect for your kitchen or as a thoughtful gift.\n\nDon't miss out on this hands-on\, engaging workshop. \n\nJoin us for a fun and fulfilling experience that combines craftsmanship with creativity. Let's carve something amazing together! You will be surprised with what you create\, and everyone has a great time!
X-ALT-DESC;FMTTYPE=text/html:<strong>Why Spoon Carving?&nbsp\;It&#39\;s a perfect project for beginners: Spoon carving is a great introduction to woodworking- no prior experience needed!</strong><br />\n<strong>Relaxing and Therapeutic:&nbsp\;Carving is a mindful\, calming process that helps you focus and unwind.</strong><br />\n<strong>It&#39\;s Functional Art:&nbsp\;Take home a beautiful\, hand-carved spoon\, perfect for your kitchen or as a thoughtful gift.</strong><br />\n<strong>Don&#39\;t miss out on this hands-on\, engaging workshop.&nbsp\;</strong><br />\nJoin us for a fun and fulfilling experience that combines craftsmanship with creativity. Let&#39\;s carve something amazing together! You will be surprised with what you create\, and everyone has a great time!<br />\n&nbsp\;
LOCATION:Calvo Woodcarving School
UID:e.2981.34574
SEQUENCE:3
DTSTAMP:20260425T034355Z
URL:https://business.capeannvacations.com/events/details/1-day-spoon-carving-workshop-34574
END:VEVENT

END:VCALENDAR
