BEGIN:VCALENDAR
VERSION:2.0
PRODID:-//ChamberMaster//Event Calendar 2.0//EN
METHOD:PUBLISH
X-PUBLISHED-TTL:P3D
REFRESH-INTERVAL:P3D
CALSCALE:GREGORIAN
BEGIN:VEVENT
DTSTART:20241231T210000Z
DTEND:20250101T193000Z
X-MICROSOFT-CDO-ALLDAYEVENT:FALSE
SUMMARY:1606 New Year's Features
DESCRIPTION:Celebrate the New Year surrounded by coastal elegance and charm at 1606 Restaurant & Oyster Bar! \n\n\n\nEnd the year on New Year's Eve with an exquisite culinary experience and indulge in various New Year's Eve Special Features including Potato & Leek Soup\, Crispy Fried Oysters\, Beef Wellington\, Lobster & Halibut\, House Mushroom Tortellini\, Tiramisu\, and Port Poached Pear. \n\n\n\nA fresh start calls for fresh flavors! Make your first meal of 2025 one to remember at our New Year's Day Brunch\, featuring Avocado Toast\, Croissant Sandwich\, Steak & Eggs\, Strawberry French Toast Bake\, Fried Chicken & Waffle\, Vegetarian Quiche and Lump Crab Cake Benedict. \n\n\n\nWe can't wait to raise a glass this New Year's at 1606 Restaurant & Oyster Bar! Reservations are available at this link:\n\nhttps://1606restaurant.com/reserve-a-table/
X-ALT-DESC;FMTTYPE=text/html:Celebrate the New Year surrounded by coastal elegance and charm at 1606 Restaurant &amp\; Oyster Bar!&nbsp\;<br />\n<br />\nEnd the year on New Year&#39\;s Eve with an exquisite culinary experience and indulge in various New Year&rsquo\;s Eve Special Features including Potato &amp\; Leek Soup\, Crispy Fried Oysters\, Beef Wellington\, Lobster &amp\; Halibut\, House Mushroom Tortellini\, Tiramisu\, and Port Poached Pear.&nbsp\;<br />\n<br />\nA fresh start calls for fresh flavors! Make your first meal of 2025 one to remember at our New Year&rsquo\;s Day Brunch\, featuring Avocado Toast\, Croissant Sandwich\, Steak &amp\; Eggs\, Strawberry French Toast Bake\, Fried Chicken &amp\; Waffle\, Vegetarian Quiche and Lump Crab Cake Benedict.&nbsp\;<br />\n<br />\nWe can&rsquo\;t wait to raise a glass this New Year&#39\;s at 1606 Restaurant &amp\; Oyster Bar! Reservations are available at this link:<br />\nhttps://1606restaurant.com/reserve-a-table/
LOCATION:55 Commercial St\, Gloucester\, MA 01930
UID:e.2981.34507
SEQUENCE:3
DTSTAMP:20260425T022334Z
URL:https://business.capeannvacations.com/events/details/1606-new-year-s-features-34507
END:VEVENT

END:VCALENDAR
