BEGIN:VCALENDAR
VERSION:2.0
PRODID:-//ChamberMaster//Event Calendar 2.0//EN
METHOD:PUBLISH
X-PUBLISHED-TTL:P3D
REFRESH-INTERVAL:P3D
CALSCALE:GREGORIAN
BEGIN:VEVENT
DTSTART:20250214T090000Z
DTEND:20250217T020000Z
X-MICROSOFT-CDO-ALLDAYEVENT:FALSE
SUMMARY:1606 Restaurant & Oyster Bar Valentine's Day Dinner Features
DESCRIPTION:This Valentine's Day\, join us at 1606 Restaurant & Oyster Bar for a romantic seaside experience filled with inventive cocktails\, bubbly\, and Chef's special date night features Friday\, February 14th - Sunday\, February 16th.\n\n \n\n\n\nWhether you're sipping on a refreshing Lovestruck Cocktail or sharing a bottle of Taittinger Champagne\, it's the perfect way to celebrate love by the water. \n\n \n\n\n\nIndulge in delicious appetizers like crispy Fried Oysters with Steak Tartare and Truffle Aioli\, or delicate Scallop Crudo with Paddlefish Caviar and Crispy Leeks. For the main event\, treat yourselves to a decadent Bacon-Wrapped Tenderloin\, light\, delicate Dover Sole or opt for a flavorful vegetarian option like our roasted Baby Cauliflower with Tahini Yogurt Sauce and Pomegranate. \n\n \n\n\n\nDon't forget to finish the night with a sweet bite: our Mango & Passion Fruit Trifle is the perfect end to a perfect evening. \n\n \n\n\n\nMake this Valentine's unforgettable because love tastes better by the sea. \n\n \n\n\n\nView Valentine's Day Feature Menu: https://1606restaurant.com/.../APPROVED-1606-Valentines...\n\n \n\n\n\nBook Now: https://1606restaurant.com/reserve-a-table/
X-ALT-DESC;FMTTYPE=text/html:<div>\n<div>This Valentine&rsquo\;s Day\, join us at 1606 Restaurant &amp\; Oyster Bar for a romantic seaside experience filled with inventive cocktails\, bubbly\, and Chef&rsquo\;s special date night features Friday\, February 14th - Sunday\, February 16th.<br />\n&nbsp\;</div>\n</div>\n\n<div>\n<div>Whether you&#39\;re sipping on a refreshing Lovestruck Cocktail or sharing a bottle of Taittinger Champagne\, it&#39\;s the perfect way to celebrate love by the water.&nbsp\;<br />\n&nbsp\;</div>\n</div>\n\n<div>\n<div>Indulge in delicious appetizers like crispy Fried Oysters with Steak Tartare and Truffle Aioli\, or delicate Scallop Crudo with Paddlefish Caviar and Crispy Leeks. For the main event\, treat yourselves to a decadent Bacon-Wrapped Tenderloin\, light\, delicate Dover Sole&mdash\;or opt for a flavorful vegetarian option like our roasted Baby Cauliflower with Tahini Yogurt Sauce and Pomegranate.&nbsp\;<br />\n&nbsp\;</div>\n</div>\n\n<div>\n<div>Don&rsquo\;t forget to finish the night with a sweet bite: our Mango &amp\; Passion Fruit Trifle is the perfect end to a perfect evening.&nbsp\;<br />\n&nbsp\;</div>\n</div>\n\n<div>\n<div>Make this Valentine&rsquo\;s unforgettable&mdash\;because love tastes better by the sea.&nbsp\;<br />\n&nbsp\;</div>\n</div>\n\n<div>\n<div>View Valentine&#39\;s Day Feature Menu: <span style="font-family:inherit"><a class="x1i10hfl xjbqb8w x1ejq31n xd10rxx x1sy0etr x17r0tee x972fbf xcfux6l x1qhh985 xm0m39n x9f619 x1ypdohk xt0psk2 xe8uvvx xdj266r x11i5rnm xat24cr x1mh8g0r xexx8yu x4uap5 x18d9i69 xkhd6sd x16tdsg8 x1hl2dhg xggy1nq x1a2a7pz x1sur9pj xkrqix3 x1fey0fg x1s688f" href="https://1606restaurant.com/wp-content/uploads/2025/01/APPROVED-1606-Valentines-Menu-2025.pdf?fbclid=IwZXh0bgNhZW0CMTAAAR2fuqLI-2lg85yZGqwL5TtWgM0b4JMaJAH50amjHb7Jz9nQmxmy-kpDR4Q_aem_bSfFJv99_seYqTnqg4c6cw" rel="nofollow noreferrer" style="color: rgb(8\, 8\, 9)\; cursor: pointer\; list-style: none\; margin: 0px\; text-align: inherit\; border-style: none\; padding: 0px\; box-sizing: border-box\; border-width: 0px\; outline: currentcolor\; font-weight: 600\; touch-action: manipulation\; display: inline\; font-family: inherit\;" tabindex="0" target="_blank">https://1606restaurant.com/.../APPROVED-1606-Valentines...</a></span><br />\n&nbsp\;</div>\n</div>\n\n<div>\n<div>Book Now: <span style="font-family:inherit"><a class="x1i10hfl xjbqb8w x1ejq31n xd10rxx x1sy0etr x17r0tee x972fbf xcfux6l x1qhh985 xm0m39n x9f619 x1ypdohk xt0psk2 xe8uvvx xdj266r x11i5rnm xat24cr x1mh8g0r xexx8yu x4uap5 x18d9i69 xkhd6sd x16tdsg8 x1hl2dhg xggy1nq x1a2a7pz x1sur9pj xkrqix3 x1fey0fg x1s688f" href="https://1606restaurant.com/reserve-a-table/?fbclid=IwZXh0bgNhZW0CMTAAAR3aB972mEeIgLY_ITewS2RgezVdvue0gXqSYpYqbTrcig42YTejByY29ek_aem_2tCXwIjAFPuz-tostPE-dw" rel="nofollow noreferrer" style="color: rgb(8\, 8\, 9)\; cursor: pointer\; text-decoration: none\; list-style: none\; margin: 0px\; text-align: inherit\; border-style: none\; padding: 0px\; box-sizing: border-box\; border-width: 0px\; outline: currentcolor\; font-weight: 600\; touch-action: manipulation\; display: inline\; font-family: inherit\;" tabindex="0" target="_blank">https://1606restaurant.com/reserve-a-table/</a></span></div>\n</div>\n
LOCATION:1606 Restaurant & Oyster Bar 55 Commercial St. Gloucester\, MA 01930
UID:e.2981.34921
SEQUENCE:3
DTSTAMP:20260425T023733Z
URL:https://business.capeannvacations.com/events/details/1606-restaurant-oyster-bar-valentine-s-day-dinner-features-34921
END:VEVENT

END:VCALENDAR
