BEGIN:VCALENDAR
VERSION:2.0
PRODID:-//ChamberMaster//Event Calendar 2.0//EN
METHOD:PUBLISH
X-PUBLISHED-TTL:P3D
REFRESH-INTERVAL:P3D
CALSCALE:GREGORIAN
BEGIN:VEVENT
DTSTART:20250130T230000Z
DTEND:20250131T020000Z
X-MICROSOFT-CDO-ALLDAYEVENT:FALSE
SUMMARY:1606 Toast & Tastes Bubbly Pairing Dinner
DESCRIPTION:Raise your glass to an unforgettable evening at 1606 Restaurant and Oyster Bar's Toast & Tastes: Bubbly Pairing Dinner! \n\n\n\nBeginning at 6:00PM on Thursday\, January 30th\, indulge in five exquisite courses\, each perfectly paired with sparkling wines:\n\n\n\nFirst Course: Atlantic Lobster paired with Sella & Mosca\, Alghero Torbato Brut\n\n\n\nSecond Course: Oyster Stew paired with Gusbourne\, Blanc de Blancs\n\n\n\nThird Course: Dover Sole paired with Perrier-Jou t\, Grand Brut\n\n\n\nFourth Course: Duck en Cro te paired with Medici Ermete\, Reggiano Lambrusco Secco\n\n\n\nFifth Course: Strawberries & Cream paired with Graham Beck\, Bliss Nectar\n\n\n\nWe hope you embark with us on this one-of-kind culinary adventure. Tickets can be purchased through this link: https://bit.ly/4a5Uu7Q
X-ALT-DESC;FMTTYPE=text/html:Raise your glass to an unforgettable evening at 1606 Restaurant and Oyster Bar&rsquo\;s Toast &amp\; Tastes: Bubbly Pairing Dinner!&nbsp\;<br />\n<br />\nBeginning at 6:00PM on Thursday\, January 30th\, indulge in five exquisite courses\, each perfectly paired with sparkling wines:<br />\n<br />\nFirst Course: Atlantic Lobster paired with Sella &amp\; Mosca\, Alghero Torbato Brut<br />\n<br />\nSecond Course: Oyster Stew paired with Gusbourne\, Blanc de Blancs<br />\n<br />\nThird Course: Dover Sole paired with Perrier-Jou&euml\;t\, Grand Brut<br />\n<br />\nFourth Course: Duck en Cro&ucirc\;te paired with Medici Ermete\, Reggiano Lambrusco Secco<br />\n<br />\nFifth Course: Strawberries &amp\; Cream paired with Graham Beck\, Bliss Nectar<br />\n<br />\nWe hope you embark with us on this one-of-kind culinary adventure. Tickets can be purchased through this link: https://bit.ly/4a5Uu7Q&nbsp\;
LOCATION:55 Commercial St\, Gloucester\, MA 01930
UID:e.2981.34545
SEQUENCE:3
DTSTAMP:20260425T022415Z
URL:https://business.capeannvacations.com/events/details/1606-toast-tastes-bubbly-pairing-dinner-34545
END:VEVENT

END:VCALENDAR
