BEGIN:VCALENDAR
VERSION:2.0
PRODID:-//ChamberMaster//Event Calendar 2.0//EN
METHOD:PUBLISH
X-PUBLISHED-TTL:P3D
REFRESH-INTERVAL:P3D
CALSCALE:GREGORIAN
BEGIN:VEVENT
DTSTART:20250227T220000Z
DTEND:20250228T010000Z
X-MICROSOFT-CDO-ALLDAYEVENT:FALSE
SUMMARY:35 Beach Resturant and Cape Ann Plein Air - Palate to Palette
DESCRIPTION:Please join us on Thursday\, February 27th\, at 35 Beach in Manchester-by-the-Sea for a unique evening that pairs exquisite dining with the artistry of renowned plein air painter Marion Hall.\n\nExperience a delicious meal while Marion creates a live painting inspired by the evening. It's an unforgettable fusion of art\, food\, and community. Don't miss this special event and book your reservations now at 35Beach.com !
X-ALT-DESC;FMTTYPE=text/html:<p><span style="font-size:16px"><span style="font-family:times new roman"><span style="color:rgb(31\, 9\, 36)">Please join us on Thursday\, February 27th\, at 35 Beach in Manchester-by-the-Sea for a unique evening that pairs exquisite dining with the artistry of renowned plein air painter Marion Hall.</span></span></span></p>\n\n<p><span style="font-size:14px"><span style="font-family:times new roman"><span style="font-size:16px">Experience a delicious meal while Marion creates a live painting inspired by the evening. It&rsquo\;s an unforgettable fusion of art\, food\, and community. Don&#39\;t miss this special event and book your reservations now at <a href="https://www.opentable.com/r/35-beach-manchester-by-the-sea">35Beach.com</a> !</span></span></span><br />\n&nbsp\;</p>\n
LOCATION:35 Beach Street\, Manchester MA 01944
UID:e.2981.35008
SEQUENCE:3
DTSTAMP:20260425T024527Z
URL:https://business.capeannvacations.com/events/details/35-beach-resturant-and-cape-ann-plein-air-palate-to-palette-35008
END:VEVENT

END:VCALENDAR
