BEGIN:VCALENDAR
VERSION:2.0
PRODID:-//ChamberMaster//Event Calendar 2.0//EN
METHOD:PUBLISH
X-PUBLISHED-TTL:P3D
REFRESH-INTERVAL:P3D
CALSCALE:GREGORIAN
BEGIN:VEVENT
DTSTART:20191221T220000Z
DTEND:20191221T230000Z
X-MICROSOFT-CDO-ALLDAYEVENT:FALSE
SUMMARY:74th Annual Rockport Christmas Pageant
DESCRIPTION:A torch-lit live re-enactment of the Nativity.\n\nRockport's 74th Annual Live Christmas Pageant is around the corner!\n\nIn the spirit of the holidays\, the Rockport Art Association and Museum once again presents the Annual Live Christmas Pageant. The pageant will be held Saturday\, December 21\, 2019 at 5 PM (rain date Sunday\, December 22nd at 5 PM).\n\n \n\nEach year hundreds of spectators gather to watch the live re-enactment of the story of baby Jesus\, Mary and Joseph\, the Bethlehem inn and the stable. The pageant begins with a torch lit procession which starts at Dock Square and proceeds up Main Street to the Congregational Church. Here the story of Jesus' birth is brought to life through a live narration.\n\n \n\nThe pageant was originated by Dr. William F. Strangman and Mrs. Aldro Hibbard in 1947\, as a gift from the Rockport Art Association to the village. It remains a solid holiday season fixture to this day. \n\n \n\nJoin us as an onlooker or participant in the roles of children of Bethlehem\, ladies of Bethlehem\, shepherds or torch bearers. Makeup and costumes supplied. For more information or to participate\, contact Pat Alto at Rockport Art Association & Museum\, 978-546-6604\n\n\n\nMike Costello\, is celebrating his 25th year as pageant narrator. \n\n\n\nNEW: Complementary hot chocolate will be served to the public following the Pageant at the RAA&M.
X-ALT-DESC;FMTTYPE=text/html:<span style="font-family: Merriweather\; font-size: 14px\;">&nbsp\;A torch-lit live re-enactment of the Nativity.</span><br />\n<strong><span style="color:black\;">Rockport&rsquo\;s 74th </span>Annual Live Christmas Pageant is around the corner!</strong><br />\nIn the spirit of the holidays\, the Rockport Art Association and Museum once again presents the Annual Live Christmas Pageant. The pageant will be held Saturday\, December 21\, 2019 at 5 PM (rain date Sunday\, December 22nd at 5 PM).<br />\n&nbsp\;<br />\nEach year hundreds of spectators gather to watch the live re-enactment of the story of baby Jesus\, Mary and Joseph\, the Bethlehem inn and the stable. The pageant begins with a torch lit procession which starts at Dock Square and proceeds up Main Street to the Congregational Church. Here the story of Jesus&rsquo\; birth is brought to life through a live narration.<br />\n&nbsp\;<br />\n<span style="color:black\;">The pageant was originated by Dr. William F. Strangman and Mrs. Aldro Hibbard in 1947\, as a gift from the Rockport Art Association to the village. It remains a solid holiday season fixture to this day. </span><br />\n&nbsp\;<br />\n<span style="font-family:calibri\,sans-serif\;"><span style="font-size:12.0pt\;">Join us as an onlooker or participant in the roles of children of Bethlehem\, ladies of Bethlehem\, shepherds or torch bearers. Makeup and costumes supplied</span></span><span style="font-family:calibri\,sans-serif\;"><span style="font-size:12.0pt\;">. </span></span><span style="color:black\;"><span style="font-family:calibri\,sans-serif\;"><span style="font-size:12.0pt\;">For more information or to participate\, contact Pat Alto at Rockport Art Association &amp\; Museum\, 978-546-6604</span></span></span><br />\n<br />\n<strong>Mike Costello\, is celebrating his 25<sup>th</sup> year </strong>as pageant narrator.&nbsp\;<br />\n<br />\n<strong><span style="color:red\;">NEW:</span></strong> Complementary hot chocolate will be served to the public following the Pageant at the RAA&amp\;M.<br />\n&nbsp\;
LOCATION:Dock Square and Main Street Rockport\, MA 01966
UID:e.2981.5292
SEQUENCE:3
DTSTAMP:20260424T102552Z
URL:https://business.capeannvacations.com/events/details/74th-annual-rockport-christmas-pageant-5292
END:VEVENT

END:VCALENDAR
