BEGIN:VCALENDAR
VERSION:2.0
PRODID:-//ChamberMaster//Event Calendar 2.0//EN
METHOD:PUBLISH
X-PUBLISHED-TTL:P3D
REFRESH-INTERVAL:P3D
CALSCALE:GREGORIAN
BEGIN:VEVENT
DTSTART:20170305T010000Z
DTEND:20170305T030000Z
X-MICROSOFT-CDO-ALLDAYEVENT:FALSE
SUMMARY:Aardvark Jazz Orchestra
DESCRIPTION:Hailed as ''captivating'' (Jazz Improv)\, ''stunningly beautiful'' (New York City Jazz Record)\, and ''one of the best jazz ensembles in the world'' (Jazz Podium\, Germany)\, the Aardvark Jazz Orchestra continues its historic 44th season with a salute to Duke Ellington.  Led by founder/director Mark Harvey\, the band will perform classics like  Don't Get Around Much Anymore\, Satin Doll\, C Jam Blues\, I'm Beginning to See the Light\, and Billy Strayhorn's Daydream.
X-ALT-DESC;FMTTYPE=text/html:Hailed as ''captivating'' (Jazz Improv)\, ''stunningly beautiful'' (New York City Jazz Record)\, and ''one of the best jazz ensembles in the world'' (Jazz Podium\, Germany)\, the Aardvark Jazz Orchestra continues its historic 44th season with a salute to Duke Ellington.  Led by founder/director Mark Harvey\, the band will perform classics like  Don't Get Around Much Anymore\, Satin Doll\, C Jam Blues\, I'm Beginning to See the Light\, and Billy Strayhorn's Daydream.
LOCATION:37 Main Street\, Rockport\, MA 01966 Shalin Liu Performance Center
UID:e.2981.2793
SEQUENCE:3
DTSTAMP:20260421T014255Z
URL:https://business.capeannvacations.com/events/details/aardvark-jazz-orchestra-03-04-2017-2793
END:VEVENT

END:VCALENDAR
