BEGIN:VCALENDAR
VERSION:2.0
PRODID:-//ChamberMaster//Event Calendar 2.0//EN
METHOD:PUBLISH
X-PUBLISHED-TTL:P3D
REFRESH-INTERVAL:P3D
CALSCALE:GREGORIAN
BEGIN:VEVENT
DTSTART;VALUE=DATE:20250131
DTEND;VALUE=DATE:20250202
TRANSP:TRANSPARENT
X-MICROSOFT-CDO-ALLDAYEVENT:TRUE
SUMMARY:Amplifying Voices Film Festival
DESCRIPTION:Amplifying Voices brings impactful stories and voices to the North Shore\, and beyond\, by presenting films made by and about people of color. These two days of films are curated by Sabrina Avil s\, Executive Director of CineFest Latino Boston and Lisa Simmons\, Executive Director of The Roxbury International Film Festival.\n\nWe hope to make all voices and people feel welcome in our community by uplifting those who are too often marginalized. With the help of the filmmakers as well as civic\, arts\, and educational organizations across the North Shore\, we hope to deepen empathy\, expand understanding\, and advance important conversations.\n\nAmplifying Voices is free to Students\, Seniors\, Veterans\, and EBT Cardholders. Weekend passes available.
X-ALT-DESC;FMTTYPE=text/html:<p>Amplifying Voices brings impactful stories and voices to the North Shore\, and beyond\, by presenting films made by and about people of color. These two days of films are curated by Sabrina Avil&eacute\;s\, Executive Director of CineFest Latino Boston and Lisa Simmons\, Executive Director of The Roxbury International Film Festival.</p>\n\n<p>We hope to make all voices and people feel welcome in our community by uplifting those who are too often marginalized. With the help of the filmmakers as well as civic\, arts\, and educational organizations across the North Shore\, we hope to deepen empathy\, expand understanding\, and advance important conversations.</p>\n\n<p><strong>Amplifying Voices is free to Students\, Seniors\, Veterans\, and EBT Cardholders. Weekend passes available.</strong></p>\n
LOCATION:The Cabot 286 Cabot St Beverly\, MA 01915
UID:e.2981.34801
SEQUENCE:3
DTSTAMP:20260425T034723Z
URL:https://business.capeannvacations.com/events/details/amplifying-voices-film-festival-34801
END:VEVENT

END:VCALENDAR
