BEGIN:VCALENDAR
VERSION:2.0
PRODID:-//ChamberMaster//Event Calendar 2.0//EN
METHOD:PUBLISH
X-PUBLISHED-TTL:P3D
REFRESH-INTERVAL:P3D
CALSCALE:GREGORIAN
BEGIN:VEVENT
DTSTART:20250118T010000Z
DTEND:20250118T033000Z
X-MICROSOFT-CDO-ALLDAYEVENT:FALSE
SUMMARY:An Evening With Branford Marsalis
DESCRIPTION:Saxophonist Branford Marsalis is one of the most influential and revered figures in contemporary music.
X-ALT-DESC;FMTTYPE=text/html:Saxophonist Branford Marsalis is one of the most influential and revered figures in contemporary music.
LOCATION:The Cabot 286 Cabot St Beverly\, MA 01915
UID:e.2981.34570
SEQUENCE:3
DTSTAMP:20260424T234744Z
URL:https://business.capeannvacations.com/events/details/an-evening-with-branford-marsalis-34570
END:VEVENT

END:VCALENDAR
