BEGIN:VCALENDAR
VERSION:2.0
PRODID:-//ChamberMaster//Event Calendar 2.0//EN
METHOD:PUBLISH
X-PUBLISHED-TTL:P3D
REFRESH-INTERVAL:P3D
CALSCALE:GREGORIAN
BEGIN:VEVENT
DTSTART:20250101T013000Z
DTEND:20250101T053000Z
X-MICROSOFT-CDO-ALLDAYEVENT:FALSE
SUMMARY:Beauport Cruiselines New Year's Eve Cruise
DESCRIPTION:Sail into 2025 in style! \n\n\n\nStarting at 8:30 PM on December 31st\, we invite you to immerse yourself in a night of festive elegance. Enjoy a selection of Passed Hors D'Oeuvres\, indulge in our Mac & Cheese Martini Bar\, savor the flavors of our delectable Chinese Food station\, and dance into 2025 to live DJ Entertainment by the The 617 Event Group.\n\n\n\nAs midnight approaches\, raise a complimentary glass of champagne with friends and family to toast the arrival of 2025. \n\n\n\nTickets are $96 per person and be purchased at this link: https://bit.ly/3CIs9Yk\n\n\n\n*One complimentary champagne toast per guest. Cash bar for additional beverages. This event is for 21+ adults only.
X-ALT-DESC;FMTTYPE=text/html:Sail into 2025 in style!&nbsp\;<br />\n<br />\nStarting at 8:30 PM on December 31st\, we invite you to immerse yourself in a night of festive elegance. Enjoy a selection of Passed Hors D&rsquo\;Oeuvres\, indulge in our Mac &amp\; Cheese Martini Bar\, savor the flavors of our delectable Chinese Food station\, and dance into 2025 to live DJ Entertainment by the The 617 Event Group.<br />\n<br />\nAs midnight approaches\, raise a complimentary glass of champagne with friends and family to toast the arrival of 2025.&nbsp\;<br />\n<br />\nTickets are $96 per person and be purchased at this link: https://bit.ly/3CIs9Yk<br />\n<br />\n*One complimentary champagne toast per guest. Cash bar for additional beverages. This event is for 21+ adults only.&nbsp\;
LOCATION:6 Rowe Sq #3057\, Gloucester\, MA 01930
UID:e.2981.34219
SEQUENCE:3
DTSTAMP:20260425T022538Z
URL:https://business.capeannvacations.com/events/details/beauport-cruiselines-new-year-s-eve-cruise-34219
END:VEVENT

END:VCALENDAR
