BEGIN:VCALENDAR
VERSION:2.0
PRODID:-//ChamberMaster//Event Calendar 2.0//EN
METHOD:PUBLISH
X-PUBLISHED-TTL:P3D
REFRESH-INTERVAL:P3D
CALSCALE:GREGORIAN
BEGIN:VEVENT
DTSTART:20210805T200000Z
DTEND:20210805T220000Z
X-MICROSOFT-CDO-ALLDAYEVENT:FALSE
SUMMARY:Beauport\, the Sleeper-McCann House Evening Tours
DESCRIPTION:Celebrate Culture Splash in Gloucester with an early evening tour of Beauport. Visit the summer home of Henry Sleeper\, one of America's first professional interior designers. Sleeper began building Beauport in 1907\, eventually enlarging the house to more than forty rooms filled with a lifetime collection of period furniture\, colored glass\, ceramics\, and architectural salvage. Guided tours offered early evenings every Thursday throughout July and August.\n\nBook tickets in advance online.
X-ALT-DESC;FMTTYPE=text/html:Celebrate Culture Splash in Gloucester with an early evening tour of Beauport. Visit the summer home of Henry Sleeper\, one of America&rsquo\;s first professional interior designers. Sleeper began building Beauport in 1907\, eventually enlarging the house to more than forty rooms filled with a lifetime collection of period furniture\, colored glass\, ceramics\, and architectural salvage. Guided tours offered early evenings every Thursday throughout July and August.<br />\nBook tickets in advance online.
LOCATION:Beauport\, the Sleeper-McCann House\, 75 Eastern Point Boulevard\, Gloucester\, MA 01930
UID:e.2981.21067
SEQUENCE:3
DTSTAMP:20260424T205201Z
URL:https://business.capeannvacations.com/events/details/beauport-evening-tours-08-05-2021-21067
END:VEVENT

END:VCALENDAR
