BEGIN:VCALENDAR
VERSION:2.0
PRODID:-//ChamberMaster//Event Calendar 2.0//EN
METHOD:PUBLISH
X-PUBLISHED-TTL:P3D
REFRESH-INTERVAL:P3D
CALSCALE:GREGORIAN
BEGIN:VEVENT
DTSTART:20250126T010000Z
DTEND:20250127T000000Z
X-MICROSOFT-CDO-ALLDAYEVENT:FALSE
SUMMARY:Big Head Todd and the Monsters - 40th Anniversary Tour
DESCRIPTION:In this life\, very few friendships withstand the test of time. Naturally\, people go their separate ways and chase their own dreams. As rare as it may be for friendships to last a lifetime\, it might be even rarer for a band to stick together for the long haul. For close to four decades\, the members of Big Head Todd and The Monsters Todd Park Mohr [vocals\, guitar\, keys\, sax\, harmonica]\, Brian Nevin [drums]\, Rob Squires [bass\, vocals]\, and Jeremy Lawton [keyboards\, lap pedal/steel guitar\, vocals] have continued to both throw down in the studio and light up stages worldwide. Rallying around a core vision\, the platinum-selling Colorado quartet kick out the kind of blues-drenched rock 'n' roll bangers that make you want to rev the engine a little louder\, sing along like no one's looking\, and live a little freer.
X-ALT-DESC;FMTTYPE=text/html:In this life\, very few friendships withstand the test of time. Naturally\, people go their separate ways and chase their own dreams. As rare as it may be for friendships to last a lifetime\, it might be even rarer for a band to stick together for the long haul. For close to four decades\, the members of Big Head Todd and The Monsters&mdash\;Todd Park Mohr [vocals\, guitar\, keys\, sax\, harmonica]\, Brian Nevin [drums]\, Rob Squires [bass\, vocals]\, and Jeremy Lawton [keyboards\, lap pedal/steel guitar\, vocals]&mdash\;have continued to both throw down in the studio and light up stages worldwide. Rallying around a core vision\, the platinum-selling Colorado quartet kick out the kind of blues-drenched rock &lsquo\;n&rsquo\; roll bangers that make you want to rev the engine a little louder\, sing along like no one&rsquo\;s looking\, and live a little freer.&nbsp\;
LOCATION:The Cabot 286 Cabot St Beverly\, MA 01915
UID:e.2981.34798
SEQUENCE:3
DTSTAMP:20260424T234321Z
URL:https://business.capeannvacations.com/events/details/big-head-todd-and-the-monsters-40th-anniversary-tour-34798
END:VEVENT

END:VCALENDAR
