BEGIN:VCALENDAR
VERSION:2.0
PRODID:-//ChamberMaster//Event Calendar 2.0//EN
METHOD:PUBLISH
X-PUBLISHED-TTL:P3D
REFRESH-INTERVAL:P3D
CALSCALE:GREGORIAN
BEGIN:VEVENT
DTSTART:20250126T180000Z
DTEND:20250126T210000Z
X-MICROSOFT-CDO-ALLDAYEVENT:FALSE
SUMMARY:Books & Brews
DESCRIPTION:Indulge in a good book and a tasty pint at our Books & Brews pop-up with the local independent bookstore\, Paper & String Books!\n\nA popular event that you don't want to miss! Mark your calendar for Sunday\, January 26th from 1pm - 4pm and join us at the Brewer's Table for an afternoon of books and brews. Purchase a book as a gift for a friend or a gift for yourself. Books for all ages! Best-sellers\, novels\, fiction & non-fiction.\n\nPaper & String Books is a women-owned\, local\, independent bookstore based in Hamilton\, MA.
X-ALT-DESC;FMTTYPE=text/html:<div>Indulge in a good book and a tasty pint at our Books &amp\; Brews pop-up with the local independent bookstore\, Paper &amp\; String Books!</div>\n\n<div>A popular event that you don&rsquo\;t want to miss! Mark your calendar for Sunday\, January 26th from 1pm - 4pm and join us at the Brewer&rsquo\;s Table for an afternoon of books and brews. Purchase a book as a gift for a friend or a gift for yourself. Books for all ages! Best-sellers\, novels\, fiction &amp\; non-fiction.</div>\n\n<div>Paper &amp\; String Books is a women-owned\, local\, independent bookstore based in Hamilton\, MA.</div>\n
LOCATION:Ipswich Ale Brewery 2 Brewery Place\, Ipswich\, MA
UID:e.2981.34544
SEQUENCE:3
DTSTAMP:20260425T022205Z
URL:https://business.capeannvacations.com/events/details/books-brews-34544
END:VEVENT

END:VCALENDAR
