BEGIN:VCALENDAR
VERSION:2.0
PRODID:-//ChamberMaster//Event Calendar 2.0//EN
METHOD:PUBLISH
X-PUBLISHED-TTL:P3D
REFRESH-INTERVAL:P3D
CALSCALE:GREGORIAN
BEGIN:VEVENT
DTSTART;VALUE=DATE:20241021
DTEND;VALUE=DATE:20241101
TRANSP:TRANSPARENT
X-MICROSOFT-CDO-ALLDAYEVENT:TRUE
SUMMARY:Build Your Own Boat - Salt Marsh Dory
DESCRIPTION:BUILD YOUR OWN ESSEX SALT MARSH DORY\n\nTWO WEEK COURSE (10 weekdays) - 9am -2pm\, October 21 - 25 & October 28 - November 1 2024\n\nNo experience? We've got you covered!\n\n \n\nJoin expert builder\, Jeff Lane for a 10 day course and take your very own boat home with you at the end of the session!\n\nDiscover the timeless art of boatbuilding with the Essex Salt Marsh Dory. Designed by the skilled craftsman Charles A. Burnham\, this capable little boat is perfect for single-handed rowing. Its compact size allows for easy storage and transportation\, fitting on top of a car with roof racks. Experience the joy of building and launching your own dory in our introductory course\, where you'll learn the fundamentals of boatbuilding\, woodworking techniques\, and the use of modern epoxy for a lightweight construction. No prior experience is required\, as all tools and materials will be provided. Whether you're a novice or a seasoned enthusiast\, join us for this immersive 10-day course and take home your very own bespoke dory.
X-ALT-DESC;FMTTYPE=text/html:<h1>BUILD YOUR OWN ESSEX SALT MARSH DORY</h1>\n\n<p>TWO WEEK COURSE (10 weekdays) - 9am -2pm\, October 21 - 25 &amp\; October 28 - November 1 2024</p>\n\n<h2>No experience? We&rsquo\;ve got you covered!</h2>\n\n<p>&nbsp\;</p>\n\n<p><em>Join expert builder\, Jeff Lane for a 10 day course and take your very own boat home with you at the end of the session!</em></p>\n\n<p><strong><em>Discover the timeless art of boatbuilding with the Essex Salt Marsh Dory. Designed by the skilled craftsman Charles A. Burnham\, this capable little boat is perfect for single-handed rowing. Its compact size allows for easy storage and transportation\, fitting on top of a car with roof racks. Experience the joy of building and launching your own dory in our introductory course\, where you&#39\;ll learn the fundamentals of boatbuilding\, woodworking techniques\, and the use of modern epoxy for a lightweight construction. No prior experience is required\, as all tools and materials will be provided. Whether you&#39\;re a novice or a seasoned enthusiast\, join us for this immersive 10-day course and take home your very own bespoke dory.</em></strong></p>\n\n<div>&nbsp\;</div>\n
LOCATION:66 Main Street
UID:e.2981.33203
SEQUENCE:3
DTSTAMP:20260420T183633Z
URL:https://business.capeannvacations.com/events/details/build-your-own-boat-salt-marsh-dory-33203
END:VEVENT

END:VCALENDAR
