BEGIN:VCALENDAR
VERSION:2.0
PRODID:-//ChamberMaster//Event Calendar 2.0//EN
METHOD:PUBLISH
X-PUBLISHED-TTL:P3D
REFRESH-INTERVAL:P3D
CALSCALE:GREGORIAN
BEGIN:VEVENT
DTSTART:20250124T214500Z
DTEND:20250124T234500Z
X-MICROSOFT-CDO-ALLDAYEVENT:FALSE
SUMMARY:Businesswomen's Mixer at Harbor 9 Golf - 2025
DESCRIPTION:The Greater Cape Ann Chamber's Businesswomen's Committee invites you to mix and mingle with other Greater Cape Ann business professionals at Harbor 9 Golf at Gloucester Crossing.\n\n\n\nJoin us for a fun evening of networking\, while we also try out the fabulous interactive golf bays at Harbor 9. Women and men of all experience levels (or none) are welcome! There will be two Golf Pro's on site to assist us as we play. Choose the early or late session to play and spend the other session networking. A cash Bar and light appetizers will be provided by our generous hosts at Harbor 9. We hope to see you there!!
X-ALT-DESC;FMTTYPE=text/html:<span style="font-family:arial\,sans-serif\;"><span style="font-size:10.0pt\;">The Greater Cape Ann Chamber&#39\;s Businesswomen&rsquo\;s Committee invites you to mix and mingle with other Greater Cape Ann business professionals at Harbor 9 Golf at Gloucester Crossing.</span></span><br />\n<br />\n<span style="color: rgb(0\, 0\, 0)\;">Join us for a fun evening of networking\, while we also try out the fabulous interactive golf bays at Harbor 9. Women and men of all experience levels (or none) are welcome! There will be two Golf Pro&#39\;s on site to assist us as we play. Choose the early or late session to play and spend the other session networking. A cash Bar and light appetizers will be provided by our generous hosts at Harbor 9. We hope to see you there!!</span>
LOCATION:Harbor 9 Golf 355 Gloucester Crossing Rd Gloucester\, MA 01930
UID:e.2981.34279
SEQUENCE:3
DTSTAMP:20260425T022511Z
URL:https://business.capeannvacations.com/events/details/businesswomen-s-mixer-at-harbor-9-golf-2025-34279
END:VEVENT

END:VCALENDAR
