BEGIN:VCALENDAR
VERSION:2.0
PRODID:-//ChamberMaster//Event Calendar 2.0//EN
METHOD:PUBLISH
X-PUBLISHED-TTL:P3D
REFRESH-INTERVAL:P3D
CALSCALE:GREGORIAN
BEGIN:VEVENT
DTSTART:20210811T220000Z
DTEND:20210812T000000Z
X-MICROSOFT-CDO-ALLDAYEVENT:FALSE
SUMMARY:Cape Ann Museum: Sunset Sails on the Lannon
DESCRIPTION:Art\, ocean\, and light combine during the Cape Ann Museum's Sunset Sails on the Schooner "Thomas E. Lannon." The program includes a two-hour sail\, light refreshments\, a chance to watercolor paint\, and sea-worthy content about the cultural history of Cape Ann.\n\nSunset Sails are scheduled on Wednesday\, July 28\, August 11\, and August 25 from 6:00-8:00 pm.\n\nCost per event is $60 for CAM members\; $75 nonmembers.\n\nAdvanced registration required.\n\nPlease reserve online at Eventbrite or call (978) 283-0455 for additional information.\n\nFitz Henry Lane (1804-1865)\, Ten Pound Island at Sunset\, 1851\, oil on panel\, gift of Alice D. Stevens\, 1964 (1799.5)
X-ALT-DESC;FMTTYPE=text/html:<p>Art\, ocean\, and light combine during the Cape Ann Museum&rsquo\;s Sunset Sails on the Schooner &ldquo\;Thomas E. Lannon.&rdquo\; The program includes a two-hour sail\, light refreshments\, a chance to watercolor paint\, and sea-worthy content about the cultural history of Cape Ann.</p>\n\n<p>Sunset Sails&nbsp\;are scheduled on Wednesday\, July 28\, August 11\, and August 25 from 6:00-8:00 pm.</p>\n\n<p>Cost per event is $60 for CAM members\; $75 nonmembers.<br />\nAdvanced registration required.<br />\nPlease reserve online at&nbsp\;<a href="https://www.eventbrite.com/e/sunset-sails-on-the-lannon-tickets-158787623055" style="box-sizing: border-box\; margin: 0px\; padding: 0px\; border: 0px\; font-weight: bold\; font-style: inherit\; font-family: inherit\; vertical-align: baseline\; background: transparent\; color: rgb(21\, 91\, 128)\; text-decoration-line: none\;">Eventbrite</a><strong>&nbsp\;</strong>or call&nbsp\;<a href="tel:9782830455" style="box-sizing: border-box\; margin: 0px\; padding: 0px\; border: 0px\; font-weight: bold\; font-style: inherit\; font-family: inherit\; vertical-align: baseline\; background: transparent\; color: rgb(21\, 91\, 128)\; text-decoration-line: none\;">(978) 283-0455</a>&nbsp\;for additional information.</p>\n\n<p><span style="color:rgb(102\, 102\, 102)\; font-family:helvetica neue\,helvetica\,arial\,sans-serif\; font-size:12.8px">Fitz Henry Lane (1804-1865)\,&nbsp\;</span><em>Ten Pound Island at Sunset</em><span style="color:rgb(102\, 102\, 102)\; font-family:helvetica neue\,helvetica\,arial\,sans-serif\; font-size:12.8px">\, 1851\, oil on panel\, gift of Alice D. Stevens\, 1964 (1799.5)</span></p>\n
LOCATION:Schooner Thomas E. Lannon 63 Rogers Street Gloucester\, MA 01930
UID:e.2981.21112
SEQUENCE:3
DTSTAMP:20260424T190118Z
URL:https://business.capeannvacations.com/events/details/cape-ann-museum-sunset-sails-on-the-lannon-08-11-2021-21112
END:VEVENT

END:VCALENDAR
