BEGIN:VCALENDAR
VERSION:2.0
PRODID:-//ChamberMaster//Event Calendar 2.0//EN
METHOD:PUBLISH
X-PUBLISHED-TTL:P3D
REFRESH-INTERVAL:P3D
CALSCALE:GREGORIAN
BEGIN:VEVENT
DTSTART:20210804T120000Z
DTEND:20210804T133000Z
X-MICROSOFT-CDO-ALLDAYEVENT:FALSE
SUMMARY:Cape Ann Regional Grant Presents "Agile Small Business Operations"
DESCRIPTION:Please plan to join us in person or online for this free small business workshop presented by the Cape Ann Regional Grant.\n\nWhat will be covered:  Companies with responsive operations are best prepared to meet shifting business conditions. Agile companies take an integrated approach to operations management by linking together all aspects of the organization\, including its employees\, methods\, customers and suppliers. In this session you will learn:  \n\n	How to gain a competitive advantage through agile operations management strategies. \n	Exploring how the sales and operations planning process drive value chain collaboration. \n	How to evaluate changes in the post pandemic supply chain. \n\nInstructor: Rich Weissman\, an experienced management professional\, teaches at the graduate and undergraduate levels for Endicott College and Northeastern University\, and is a corporate trainer specializing in leadership and management development\, optimizing sales and customer service\, and operational process improvement.
X-ALT-DESC;FMTTYPE=text/html:<span style="font-size:10.0pt\;">Please plan to join us in person or online for this free small business workshop presented by the Cape Ann Regional Grant.</span><br />\n<strong><span style="font-size:10.0pt\;">What will be covered: &nbsp\;</span></strong><span style="font-size:10.0pt\;">Companies with responsive operations are best prepared to meet shifting business conditions. Agile companies take an integrated approach to operations management by linking together all aspects of&nbsp\;the organization\, including its employees\, methods\, customers and suppliers. In this session you will learn: &nbsp\;</span>\n<ul>\n	<li style="margin-bottom:0in\;line-height:115%\;"><span style="font-size:10.0pt\;">How to gain a competitive advantage through agile operations management strategies. </span></li>\n	<li style="margin-bottom:0in\;line-height:115%\;"><span style="font-size:10.0pt\;">Exploring how the sales and operations planning process drive value chain collaboration. </span></li>\n	<li style="margin-bottom:0in\;line-height:115%\;"><span style="font-size:10.0pt\;">How to evaluate changes in the post pandemic supply chain. </span></li>\n</ul>\n<strong><span style="font-family:calibri\,sans-serif\;"><span style="font-size:10.0pt\;">Instructor: Rich Weissman</span></span></strong><span style="font-family:calibri\,sans-serif\;"><span style="font-size:10.0pt\;">\, an experienced management professional\, teaches at the graduate and undergraduate levels for Endicott College and Northeastern University\, and is a corporate trainer specializing in leadership and management development\, optimizing sales and customer service\, and operational process improvement.</span></span>
LOCATION:Where: In-person\, for the first 12 registrants and through zoom. Workshop will be recorded and available for viewing for a limited time. Location: Cape Ann Chamber of Commerce\, 24 Harbor Loop\, Gloucester
UID:e.2981.21120
SEQUENCE:3
DTSTAMP:20260424T203654Z
URL:https://business.capeannvacations.com/events/details/cape-ann-regional-grant-presents-agile-small-business-operations-21120
END:VEVENT

END:VCALENDAR
