BEGIN:VCALENDAR
VERSION:2.0
PRODID:-//ChamberMaster//Event Calendar 2.0//EN
METHOD:PUBLISH
X-PUBLISHED-TTL:P3D
REFRESH-INTERVAL:P3D
CALSCALE:GREGORIAN
BEGIN:VEVENT
DTSTART:20250118T140000Z
DTEND:20250118T200000Z
X-MICROSOFT-CDO-ALLDAYEVENT:FALSE
SUMMARY:Catch a Ton of Tuna Food Drive
DESCRIPTION:WHEN: SATURDAY JANUARY 18 from 9AM to 3PM\n\nWHERE: MARKET BASKET at GLOUCESTER CROSSING\n\nThe winter months are often hard for our neighbors\, can you help us stock the shelves with good food? Most needed items include:\n\n\n	Canned Tuna\n	Canned Chicken\n	Peanut Putter\n	100% Juice/Juice Boxes\n	Hearty Soups\n	Canned Fruits and Veggies\n\n\nPLEASE: NO GLASS!\n\nTHANK YOU to the Gloucester Democratic City Committee for holding the annual Catch a Ton of Tuna Food Drive as their MLK Day of Service!
X-ALT-DESC;FMTTYPE=text/html:<p><span style="font-size:12px"><span style="font-family:arial\,helvetica\,sans-serif"><strong>WHEN: SATURDAY JANUARY 18 from 9AM to 3PM</strong></span></span></p>\n\n<p><span style="font-size:12px"><span style="font-family:arial\,helvetica\,sans-serif"><strong>WHERE: MARKET BASKET at GLOUCESTER CROSSING</strong></span></span></p>\n\n<p><span style="font-size:12px"><span style="font-family:arial\,helvetica\,sans-serif">The winter months are often hard for our neighbors\, can you help us stock the shelves with good food? Most needed items include:</span></span></p>\n\n<ul>\n	<li><span style="font-size:12px"><span style="font-family:arial\,helvetica\,sans-serif">Canned Tuna</span></span></li>\n	<li><span style="font-size:12px"><span style="font-family:arial\,helvetica\,sans-serif">Canned Chicken</span></span></li>\n	<li><span style="font-size:12px"><span style="font-family:arial\,helvetica\,sans-serif">Peanut Putter</span></span></li>\n	<li><span style="font-size:12px"><span style="font-family:arial\,helvetica\,sans-serif">100% Juice/Juice Boxes</span></span></li>\n	<li><span style="font-size:12px"><span style="font-family:arial\,helvetica\,sans-serif">Hearty Soups</span></span></li>\n	<li><span style="font-size:12px"><span style="font-family:arial\,helvetica\,sans-serif">Canned Fruits and Veggies</span></span></li>\n</ul>\n\n<p><span style="font-size:12px"><span style="font-family:arial\,helvetica\,sans-serif"><em>PLEASE: NO GLASS!</em></span></span></p>\n\n<p><span style="font-size:12px"><span style="font-family:arial\,helvetica\,sans-serif">THANK YOU to the Gloucester Democratic City Committee for holding the annual Catch a Ton of Tuna Food Drive as their MLK Day of Service!</span></span></p>\n
LOCATION:Market Basket Gloucester Crossing Gloucester MA
UID:e.2981.34560
SEQUENCE:3
DTSTAMP:20260425T022511Z
URL:https://business.capeannvacations.com/events/details/catch-a-ton-of-tuna-food-drive-34560
END:VEVENT

END:VCALENDAR
