BEGIN:VCALENDAR
VERSION:2.0
PRODID:-//ChamberMaster//Event Calendar 2.0//EN
METHOD:PUBLISH
X-PUBLISHED-TTL:P3D
REFRESH-INTERVAL:P3D
CALSCALE:GREGORIAN
BEGIN:VEVENT
DTSTART:20250122T230000Z
DTEND:20250123T003000Z
X-MICROSOFT-CDO-ALLDAYEVENT:FALSE
SUMMARY:Coastal Lecture: Shipbuilding & Stewardship on the Coast
DESCRIPTION:Join us for a lecture at the Crane Estate with KD Montgomery\, Executive Director of the Essex Shipbuilding Museum. In this talk\, KD will explore the unique intersection of traditional craftsmanship and environmental stewardship that defines the Essex Historical Society and Shipbuilding Museum. By examining the role of shipbuilding in the area since the 1600s\, KD will highlight how the museum engages the community to connect heritage with present-day sustainability practices. Attendees will gain insight into how the skills\, creativity\, and environmental awareness of early American shipbuilders serve as a model for protecting our waterways and salt marshes today.\n\nLearn more about the Essex Shipbuilding Museum here: https://www.essexshipbuilding.org/
X-ALT-DESC;FMTTYPE=text/html:<p>Join us for a lecture at the Crane Estate with KD Montgomery\, Executive Director of the Essex Shipbuilding Museum. In this talk\, KD will explore the unique intersection of traditional craftsmanship and environmental stewardship that defines the Essex Historical Society and Shipbuilding Museum. By examining the role of shipbuilding in the area since the 1600s\, KD will highlight how the museum engages the community to connect heritage with present-day sustainability practices. Attendees will gain insight into how the skills\, creativity\, and environmental awareness of early American shipbuilders serve as a model for protecting our waterways and salt marshes today.</p>\n\n<p>Learn more about the Essex Shipbuilding Museum here: https://www.essexshipbuilding.org/</p>\n
LOCATION:Castle Hill on the Crane Estate 290 Argilla Road Ipswich\, MA 01938
UID:e.2981.34565
SEQUENCE:3
DTSTAMP:20260425T023021Z
URL:https://business.capeannvacations.com/events/details/coastal-lecture-shipbuilding-stewardship-on-the-coast-34565
END:VEVENT

END:VCALENDAR
