BEGIN:VCALENDAR
VERSION:2.0
PRODID:-//ChamberMaster//Event Calendar 2.0//EN
METHOD:PUBLISH
X-PUBLISHED-TTL:P3D
REFRESH-INTERVAL:P3D
CALSCALE:GREGORIAN
BEGIN:VEVENT
DTSTART:20210306T000000Z
DTEND:20210306T010000Z
X-MICROSOFT-CDO-ALLDAYEVENT:FALSE
SUMMARY:Concert View: Maeve Gilchrist\, harp
DESCRIPTION:Celebrated harpist Maeve Gilchrist performs a concert featuring several original works from her latest release Harpweaver\, including the title track as well as "The Calm" and "The Storm."  She is joined by the Rasa Quartet and guitarist Conor Hearn (of Rakish) for this beautifully engaging program. Tune in on www.rockportmusic.org\, Facebook\, or Instagram.
X-ALT-DESC;FMTTYPE=text/html:Celebrated harpist Maeve Gilchrist performs a concert featuring several original works from her latest release <em>Harpweaver</em>\, including the title track as well as &ldquo\;The Calm&rdquo\; and &ldquo\;The Storm.&rdquo\;&nbsp\; She is joined by the Rasa Quartet and guitarist <span style="color:black"><span style="font-family:arial\,sans-serif"><span style="font-size:10.0pt">Conor Hearn (of Rakish) for this beautifully engaging program</span></span></span>. Tune in on <a href="http://www.rockportmusic.org">www.rockportmusic.org</a>\, Facebook\, or Instagram.
LOCATION:Virtual concert from Rockport Music
UID:e.2981.20671
SEQUENCE:3
DTSTAMP:20260420T103641Z
URL:https://business.capeannvacations.com/events/details/concert-view-maeve-gilchrist-harp-20671
END:VEVENT

END:VCALENDAR
