BEGIN:VCALENDAR
VERSION:2.0
PRODID:-//ChamberMaster//Event Calendar 2.0//EN
METHOD:PUBLISH
X-PUBLISHED-TTL:P3D
REFRESH-INTERVAL:P3D
CALSCALE:GREGORIAN
BEGIN:VEVENT
DTSTART:20250122T220000Z
DTEND:20250123T000000Z
X-MICROSOFT-CDO-ALLDAYEVENT:FALSE
SUMMARY:Cool Connections: Speed Networking Event in the Igloos at Mile Marker One
DESCRIPTION:Get ready for the Greater Cape Ann Chamber of Commerce's First Ever Speed Networking Event - and it's happening in the COOLEST setting imaginable: the igloos at Mile Marker One! \n\nJoin us on January 22nd from 5 - 7 pm for an evening of fast-paced connections\, great conversation\, and a whole lot of fun. You'll network with local professionals in cozy\, heated igloos while enjoying the stunning winter views of Cape Ann's waterfront. With quick\, rotating one-on-one sessions\, you'll make valuable business connections in no time!\n\nSpace is limited\, so don't wait advance registration is required to secure your spot. Don't miss out on this unique opportunity to grow your network and have a blast while doing it. Bundle up (but don't worry\, the igloos are nice and warm) and get ready to break the ice literally and figuratively at this one-of-a-kind event!\n\nSign up now and join us for an evening that's sure to be as cool as the setting itself! \n\n\n\nLight appetizers provided   Cash bar available in the "Bigloo" Lounge   Door Prize Raffle
X-ALT-DESC;FMTTYPE=text/html:<p><span style="font-size:16px\;">Get ready for the Greater Cape Ann Chamber of Commerce&#39\;s <strong>First Ever Speed Networking Event -&nbsp\;</strong>and it&#39\;s happening in the <span style="color:#0000FF\;"><strong><em>COOLEST</em></strong>&nbsp\;</span>setting imaginable: the igloos at <span style="color:#000080\;">Mile Marker</span> <span style="color:#FF0000\;">One</span>!&nbsp\;</span></p>\n\n<p><span style="font-size:16px\;">Join us on <strong>January 22nd from 5 - 7 pm</strong> for an evening of fast-paced connections\, great conversation\, and a whole lot of fun. You&rsquo\;ll network with local professionals in cozy\, heated igloos while enjoying the stunning winter views of Cape Ann&rsquo\;s waterfront. With quick\, rotating one-on-one sessions\, you&rsquo\;ll make valuable business connections in no time!</span></p>\n\n<p><span style="font-size:16px\;">Space is limited\, so don&rsquo\;t wait&mdash\;<strong>advance registration is required</strong> to secure your spot. Don&rsquo\;t miss out on this unique opportunity to grow your network and have a blast while doing it. Bundle up (but don&rsquo\;t worry\, the igloos are nice and warm) and get ready to break the ice&mdash\;literally and figuratively&mdash\;at this one-of-a-kind event!</span></p>\n\n<p><span style="font-size:16px\;">Sign up now and join us for an evening that&rsquo\;s sure to be as <em>cool</em> as the setting itself!&nbsp\;<br />\n<br />\nLight appetizers provided &bull\; Cash bar&nbsp\;available in the &quot\;Bigloo&quot\; Lounge&nbsp\;&bull\; Door Prize Raffle</span></p>\n
LOCATION:75 Essex Avenue Gloucester\, MA 01930
UID:e.2981.34533
SEQUENCE:3
DTSTAMP:20260425T023108Z
URL:https://business.capeannvacations.com/events/details/cool-connections-speed-networking-event-in-the-igloos-at-mile-marker-one-34533
END:VEVENT

END:VCALENDAR
