BEGIN:VCALENDAR
VERSION:2.0
PRODID:-//ChamberMaster//Event Calendar 2.0//EN
METHOD:PUBLISH
X-PUBLISHED-TTL:P3D
REFRESH-INTERVAL:P3D
CALSCALE:GREGORIAN
BEGIN:VEVENT
DTSTART:20250111T130000Z
DTEND:20250111T200000Z
X-MICROSOFT-CDO-ALLDAYEVENT:FALSE
SUMMARY:CPR\, FIrst aid\, AED Training Course Series
DESCRIPTION:As we step into 2025\, we encourage you to give the gift of life by registering for our CPR\, First Aid\, and AED courses. These essential skills empower you to make a difference in your community and beyond.\n\nVisit https://www.essexshipbuilding.org/tickets to learn more and sign up. Together\, we?re building a stronger\, safer future!
X-ALT-DESC;FMTTYPE=text/html:<p>As we step into 2025\, we encourage you to <em>give the gift of life</em> by registering for our CPR\, First Aid\, and AED courses. These essential skills empower you to make a difference in your community and beyond.</p>\n\n<p>Visit <a href="https://www.essexshipbuilding.org/tickets">https://www.essexshipbuilding.org/tickets</a> to learn more and sign up. Together\, we?re building a stronger\, safer future!</p>\n\n<p>&nbsp\;</p>\n
LOCATION:Museum Schoolhouse 28 Main Street Essex\, MA 01929
UID:e.2981.34748
SEQUENCE:3
DTSTAMP:20260425T022205Z
URL:https://business.capeannvacations.com/events/details/cpr-first-aid-aed-training-course-series-34748
END:VEVENT

END:VCALENDAR
