BEGIN:VCALENDAR
VERSION:2.0
PRODID:-//ChamberMaster//Event Calendar 2.0//EN
METHOD:PUBLISH
X-PUBLISHED-TTL:P3D
REFRESH-INTERVAL:P3D
CALSCALE:GREGORIAN
BEGIN:VEVENT
DTSTART:20250102T180000Z
DTEND:20250102T220000Z
X-MICROSOFT-CDO-ALLDAYEVENT:FALSE
SUMMARY:D&D Presented by Danger Wizard
DESCRIPTION:Join us for an unforgettable journey of imagination\, camaraderie\, and role-playing within the stone walls of our historic medieval castle. Step into the thrilling world of Dungeons & Dragons\, guided by professional Dungeon Masters from Danger Wizard. Whether you're a seasoned adventurer or never played a role-playing game before\, this event promises excitement for everyone. Explore a realm where history and fantasy collide\, and roll the dice in a one-of-a-kind setting.\n\n\n\nTicketed attendees will have the opportunity to explore the Museum before gaming begins. Costumes are welcome but not required. Games will use either the 5th edition or 2024 edition rules. Pre-made characters and a brief overview of the rules will be provided to all players at the start of the session. There will be a dedicated table for teens ages 15-18 yrs.\n\n\n\nProgram Schedule:\n\n1:00 - 1:45 pm: Arrive\, table assignments & character selections\, explore the Museum.\n\n1:45 - 4:45 pm: Games in session\n\n4:45 - 5:00 pm: Conclusion\n\n\n\nDetails:\n\nAvailability: Limited to 50 players\n\nPlayer Tickets: $65 per player\n\nSpectator Tickets: $15 each\n\nDungeon Masters: 7 Dungeon Masters\, each leading 7 8 players per table.\n\nParking is free.\n\n\n\nHammond Castle Museum member savings apply!\n\nReserve your spot today spaces are limited\, and adventure awaits!
X-ALT-DESC;FMTTYPE=text/html:<span style="background-color:rgb(255\, 255\, 255)\; color:rgb(24\, 24\, 24)\; font-family:-apple-system\,blinkmacsystemfont\,segoe ui\,roboto\,helvetica\,arial\,sans-serif\,apple color emoji\,segoe ui emoji\,segoe ui symbol\; font-size:14px">Join us for an unforgettable journey of imagination\, camaraderie\, and role-playing within the stone walls of our historic medieval castle. Step into the thrilling world of Dungeons &amp\; Dragons\, guided by professional Dungeon Masters from Danger Wizard. Whether you&#39\;re a seasoned adventurer or never played a role-playing game before\, this event promises excitement for everyone. Explore a realm where history and fantasy collide\, and roll the dice in a one-of-a-kind setting.</span><br />\n<br />\n<span style="background-color:rgb(255\, 255\, 255)\; color:rgb(24\, 24\, 24)\; font-family:-apple-system\,blinkmacsystemfont\,segoe ui\,roboto\,helvetica\,arial\,sans-serif\,apple color emoji\,segoe ui emoji\,segoe ui symbol\; font-size:14px">Ticketed attendees will have the opportunity to explore the Museum before gaming begins. Costumes are welcome but not required. Games will use either the 5th edition or 2024 edition rules. Pre-made characters and a brief overview of the rules will be provided to all players at the start of the session. There will be a dedicated table for teens ages 15-18 yrs.</span><br />\n<br />\n<span style="background-color:rgb(255\, 255\, 255)\; color:rgb(24\, 24\, 24)\; font-family:-apple-system\,blinkmacsystemfont\,segoe ui\,roboto\,helvetica\,arial\,sans-serif\,apple color emoji\,segoe ui emoji\,segoe ui symbol\; font-size:14px">Program Schedule:</span><br />\n<span style="background-color:rgb(255\, 255\, 255)\; color:rgb(24\, 24\, 24)\; font-family:-apple-system\,blinkmacsystemfont\,segoe ui\,roboto\,helvetica\,arial\,sans-serif\,apple color emoji\,segoe ui emoji\,segoe ui symbol\; font-size:14px">1:00 - 1:45 pm: Arrive\, table assignments &amp\; character selections\, explore the Museum.</span><br />\n<span style="background-color:rgb(255\, 255\, 255)\; color:rgb(24\, 24\, 24)\; font-family:-apple-system\,blinkmacsystemfont\,segoe ui\,roboto\,helvetica\,arial\,sans-serif\,apple color emoji\,segoe ui emoji\,segoe ui symbol\; font-size:14px">1:45 - 4:45 pm: Games in session</span><br />\n<span style="background-color:rgb(255\, 255\, 255)\; color:rgb(24\, 24\, 24)\; font-family:-apple-system\,blinkmacsystemfont\,segoe ui\,roboto\,helvetica\,arial\,sans-serif\,apple color emoji\,segoe ui emoji\,segoe ui symbol\; font-size:14px">4:45 - 5:00 pm: Conclusion</span><br />\n<br />\n<span style="background-color:rgb(255\, 255\, 255)\; color:rgb(24\, 24\, 24)\; font-family:-apple-system\,blinkmacsystemfont\,segoe ui\,roboto\,helvetica\,arial\,sans-serif\,apple color emoji\,segoe ui emoji\,segoe ui symbol\; font-size:14px">Details:</span><br />\n<span style="background-color:rgb(255\, 255\, 255)\; color:rgb(24\, 24\, 24)\; font-family:-apple-system\,blinkmacsystemfont\,segoe ui\,roboto\,helvetica\,arial\,sans-serif\,apple color emoji\,segoe ui emoji\,segoe ui symbol\; font-size:14px">Availability: Limited to 50 players</span><br />\n<span style="background-color:rgb(255\, 255\, 255)\; color:rgb(24\, 24\, 24)\; font-family:-apple-system\,blinkmacsystemfont\,segoe ui\,roboto\,helvetica\,arial\,sans-serif\,apple color emoji\,segoe ui emoji\,segoe ui symbol\; font-size:14px">Player Tickets: $65 per player</span><br />\n<span style="background-color:rgb(255\, 255\, 255)\; color:rgb(24\, 24\, 24)\; font-family:-apple-system\,blinkmacsystemfont\,segoe ui\,roboto\,helvetica\,arial\,sans-serif\,apple color emoji\,segoe ui emoji\,segoe ui symbol\; font-size:14px">Spectator Tickets: $15 each</span><br />\n<span style="background-color:rgb(255\, 255\, 255)\; color:rgb(24\, 24\, 24)\; font-family:-apple-system\,blinkmacsystemfont\,segoe ui\,roboto\,helvetica\,arial\,sans-serif\,apple color emoji\,segoe ui emoji\,segoe ui symbol\; font-size:14px">Dungeon Masters: 7 Dungeon Masters\, each leading 7&ndash\;8 players per table.</span><br />\n<span style="background-color:rgb(255\, 255\, 255)\; color:rgb(24\, 24\, 24)\; font-family:-apple-system\,blinkmacsystemfont\,segoe ui\,roboto\,helvetica\,arial\,sans-serif\,apple color emoji\,segoe ui emoji\,segoe ui symbol\; font-size:14px">Parking is free.</span><br />\n<br />\n<span style="background-color:rgb(255\, 255\, 255)\; color:rgb(24\, 24\, 24)\; font-family:-apple-system\,blinkmacsystemfont\,segoe ui\,roboto\,helvetica\,arial\,sans-serif\,apple color emoji\,segoe ui emoji\,segoe ui symbol\; font-size:14px">Hammond Castle Museum member savings apply!</span><br />\n<span style="background-color:rgb(255\, 255\, 255)\; color:rgb(24\, 24\, 24)\; font-family:-apple-system\,blinkmacsystemfont\,segoe ui\,roboto\,helvetica\,arial\,sans-serif\,apple color emoji\,segoe ui emoji\,segoe ui symbol\; font-size:14px">Reserve your spot today&mdash\;spaces are limited\, and adventure awaits!</span>
LOCATION:Hammond Castle Museum 80 Hesperus Avenue Gloucester\, MA 01930
UID:e.2981.34541
SEQUENCE:3
DTSTAMP:20260425T022216Z
URL:https://business.capeannvacations.com/events/details/d-d-presented-by-danger-wizard-34541
END:VEVENT

END:VCALENDAR
