BEGIN:VCALENDAR
VERSION:2.0
PRODID:-//ChamberMaster//Event Calendar 2.0//EN
METHOD:PUBLISH
X-PUBLISHED-TTL:P3D
REFRESH-INTERVAL:P3D
CALSCALE:GREGORIAN
BEGIN:VEVENT
DTSTART:20250112T010000Z
DTEND:20250112T033000Z
X-MICROSOFT-CDO-ALLDAYEVENT:FALSE
SUMMARY:Dirty Deeds - The AC/DC Experience
DESCRIPTION:Let there be rock!\n\n\nDirty Deeds   The AC/DC experience celebrates the thunderous energy of the Bon Scott and Brian Johnson era delivering a power-packed performance that takes the audience on a journey through the story that is AC/DC.\n\nReminiscent of the legendary Australian rockers\, Dirty Deeds\, captures the essence of the band that defined a genre.\n\nChanneling the electrifying guitar riffs of Angus and Malcolm Young\, Dirty Deeds\, recreates their chemistry and signature stage moves paying a fitting tribute to the rock 'n' roll band who ignited a global musical revolution.\n\nUnlike most tribute acts\, Dirty Deeds uniquely creates an immersive\, authentic\, and interactive AC/DC experience\, transporting fans back to the glory days of classic Rock N Roll all while paying tribute to the unique history that is AC/DC.\n\nTheir attention to detail and dedication to capturing the spirit of the original songs makes every performance an unforgettable celebration of AC/DC's legacy.\n\nDirty Deeds has set stages ablaze at sold-out venues and festivals all across the US\, earning a reputation for their explosive live shows and unwavering commitment to delivering an adrenaline-fueled performance that honors the history and legacy of the rock gods themselves.\n\nSo\, if you're seeking an electrifying journey through the golden era of rock 'n' roll\, let Dirty Deeds be your guide as they pay homage to the unrivaled legends that are AC/DC.\n\nPrepare yourself to be taken on a sonic and visual adventure that will leave you chanting for more.
X-ALT-DESC;FMTTYPE=text/html:<p>Let there be rock!</p>\n\n<div>\n<p>Dirty Deeds &ndash\; The AC/DC experience celebrates the thunderous energy of the Bon Scott and Brian Johnson era delivering a power-packed performance that takes the audience on a journey through the story that is AC/DC.</p>\n\n<p>Reminiscent of the legendary Australian rockers\, Dirty Deeds\, captures the essence of the band that defined a genre.</p>\n\n<p>Channeling the electrifying guitar riffs of Angus and Malcolm Young\, Dirty Deeds\, recreates their chemistry and signature stage moves paying a fitting tribute to the rock &lsquo\;n&rsquo\; roll band who ignited a global musical revolution.</p>\n\n<p>Unlike most tribute acts\, Dirty Deeds uniquely creates an immersive\, authentic\, and interactive AC/DC experience\, transporting fans back to the glory days of classic Rock N Roll all while paying tribute to the unique history that is AC/DC.</p>\n\n<p>Their attention to detail and dedication to capturing the spirit of the original songs makes every performance an unforgettable celebration of AC/DC&rsquo\;s legacy.</p>\n\n<p>Dirty Deeds has set stages ablaze at sold-out venues and festivals all across the US\, earning a reputation for their explosive live shows and unwavering commitment to delivering an adrenaline-fueled performance that honors the history and legacy of the rock gods themselves.</p>\n\n<p>So\, if you&rsquo\;re seeking an electrifying journey through the golden era of rock &lsquo\;n&rsquo\; roll\, let Dirty Deeds be your guide as they pay homage to the unrivaled legends that are AC/DC.</p>\n\n<p>Prepare yourself to be taken on a sonic and visual adventure that will leave you chanting for more.</p>\n</div>\n
LOCATION:The Cabot 286 Cabot Street Beverly\, MA 01915
UID:e.2981.34568
SEQUENCE:3
DTSTAMP:20260425T010132Z
URL:https://business.capeannvacations.com/events/details/dirty-deeds-the-ac-dc-experience-34568
END:VEVENT

END:VCALENDAR
