BEGIN:VCALENDAR
VERSION:2.0
PRODID:-//ChamberMaster//Event Calendar 2.0//EN
METHOD:PUBLISH
X-PUBLISHED-TTL:P3D
REFRESH-INTERVAL:P3D
CALSCALE:GREGORIAN
BEGIN:VEVENT
DTSTART:20250118T003000Z
DTEND:20250118T023000Z
X-MICROSOFT-CDO-ALLDAYEVENT:FALSE
SUMMARY:Global Journey Series: Yacouba Sissoko & Mike Block
DESCRIPTION:In this Global Journeys series concert\, master kora player Yacouba Sissoko and cellist Mike Block bring a musical collaboration ranging from traditional West African songs and stories to Appalachian tunes.
X-ALT-DESC;FMTTYPE=text/html:<span style="background-color:rgb(250\, 250\, 250)\; color:rgb(0\, 0\, 0)\; font-family:open sans\,helvetica neue\,helvetica\,arial\,sans-serif\; font-size:18px">In this Global Journeys series concert\, master kora player Yacouba Sissoko and cellist Mike Block bring a musical collaboration ranging from traditional West African songs and stories to Appalachian tunes.</span>
LOCATION:37 Main St\, Rockport\, MA 01966
UID:e.2981.34252
SEQUENCE:3
DTSTAMP:20260424T234209Z
URL:https://business.capeannvacations.com/events/details/global-journey-series-yacouba-sissoko-mike-block-34252
END:VEVENT

END:VCALENDAR
