BEGIN:VCALENDAR
VERSION:2.0
PRODID:-//ChamberMaster//Event Calendar 2.0//EN
METHOD:PUBLISH
X-PUBLISHED-TTL:P3D
REFRESH-INTERVAL:P3D
CALSCALE:GREGORIAN
BEGIN:VEVENT
DTSTART:20190817T140000Z
DTEND:20190818T220000Z
X-MICROSOFT-CDO-ALLDAYEVENT:FALSE
SUMMARY:Gloucester Waterfront Festival
DESCRIPTION:Over 200 booths featuring juried artists and craftsmen from throughout the U.S. will display their unique creations. Live music and delicious food including a Lobster Bake! Family style entertainment free through the day.\n\nHours are 10am to 6pm each day. Friendly pets on leashes are welcome. Free Admission. (Fee to Park)\n\nOn Saturday enjoy a Lobster Bake put on by Ipswich ClamBake\, along with beer by Ipswich Ale!\n\nLobster Bake\, $25:\n\n	Steamed Lobster with drawn butter\n	Steamed Corn on the Cobb\n	Fresh home-made cole slaw\n	Chilled Watermelon Slice\n\nAdd one half pound steamed clams with broth and butter\, $30.\n\n A La Carte:\n\n	Lobster with butter:  $21\n	One pound Steamed Clams with broth and butter:  $12\n\n39th Annual Gloucester Waterfront Festival\n\nStage Fort Park\, Gloucester\, Massachusetts\n\nAugust 17 & 18\, 2019 Schedule of Events\n\nSaturday\, August 17\n\n7:30am to 11am Rotary Club's Pancake Breakfast\n\n9am to 6pm Festival Opens: Arts\, Crafts\, Food Booths & Kids Area\n\n9am to 11am Jazz in the Air   Food Court Stage\n\n11am to 3pm Alter Ego - Food Court Stage\n\n3pm to 6pm Two Weeks from Everywhere - Food Court Stage 1pm to 4pm Performance Art   Roaming the Festival\n\n12pm to 6pm Cape Ann Chamber Lobster Bake and Craft Beer Truck Fund Raiser\n\nSunday\, August 18\n\n9am to 5pm Festival Opens: Arts\, Crafts\, Food Booths & Kids Area\n\n9am to 12pm Jazz in the Air   Food Court Stage\n\n11am to 4pm North Shore Old Car Club over 100 antique/vintage autos 12pm to 5pm Funbucket Band - Food Court Stage 1pm to 4pm Performance Art   Roaming the Festival\n\n  Numerous Artisans will be demonstrating their and craft.\n\n  Dozens of Specialty Food booths will offer samples including herbal dips\, jams\, jellies\, sauces\, mustards\, maple\, honey\, oils\, vinegars\, fudge and much more.   A wide variety of International Foods will be available including traditional American fare\, wraps and panini's\, Ice cream\, kabobs and seafood.   Several non-profit Agencies will be participating.   Designated Children's Area with bounce castle\, giant inflatable's\, make your-own-craft and more.   Please be sure to visit our Sponsors who help make this wonderful event possible: Engle&V lkers by the Sea\, BMW of Peabody\, Atlantic Fish and The Cape Ann Chamber of Commerce
X-ALT-DESC;FMTTYPE=text/html:Over 200 booths featuring juried artists and craftsmen from throughout the U.S. will display their unique creations. Live music and delicious food including a Lobster Bake! Family style entertainment free through the day.<br />\nHours are 10am to 6pm each day. Friendly pets on leashes are welcome. Free Admission. (Fee to Park)<br />\nOn Saturday enjoy a Lobster Bake put on by Ipswich ClamBake\, along with beer by Ipswich Ale!<br />\nLobster Bake\, $25:\n<ul>\n	<li>Steamed Lobster with drawn butter</li>\n	<li>Steamed Corn on the Cobb</li>\n	<li>Fresh home-made cole slaw</li>\n	<li>Chilled Watermelon Slice</li>\n</ul>\nAdd one half pound steamed clams with broth and butter\, $30.<br />\n&nbsp\;A La Carte:\n<ul>\n	<li>Lobster with butter:&nbsp\; $21</li>\n	<li>One pound Steamed Clams with broth and butter:&nbsp\; $12</li>\n</ul>\n39th Annual Gloucester Waterfront Festival<br />\nStage Fort Park\, Gloucester\, Massachusetts<br />\nAugust 17 &amp\; 18\, 2019 Schedule of Events<br />\nSaturday\, August 17<br />\n7:30am to 11am Rotary Club&#39\;s Pancake Breakfast<br />\n9am to 6pm Festival Opens: Arts\, Crafts\, Food Booths &amp\; Kids Area<br />\n9am to 11am Jazz in the Air &ndash\; Food Court Stage<br />\n11am to 3pm Alter Ego - Food Court Stage<br />\n3pm to 6pm Two Weeks from Everywhere - Food Court Stage 1pm to 4pm Performance Art &ndash\; Roaming the Festival<br />\n12pm to 6pm Cape Ann Chamber Lobster Bake and Craft Beer Truck Fund Raiser<br />\nSunday\, August 18<br />\n9am to 5pm Festival Opens: Arts\, Crafts\, Food Booths &amp\; Kids Area<br />\n9am to 12pm Jazz in the Air &ndash\; Food Court Stage<br />\n11am to 4pm North Shore Old Car Club over 100 antique/vintage autos 12pm to 5pm Funbucket Band - Food Court Stage 1pm to 4pm Performance Art &ndash\; Roaming the Festival<br />\n&bull\; Numerous Artisans will be demonstrating their and craft.<br />\n&bull\; Dozens of Specialty Food booths will offer samples including herbal dips\, jams\, jellies\, sauces\, mustards\, maple\, honey\, oils\, vinegars\, fudge and much more. &bull\; A wide variety of International Foods will be available including traditional American fare\, wraps and panini&rsquo\;s\, Ice cream\, kabobs and seafood. &bull\; Several non-profit Agencies will be participating. &bull\; Designated Children&#39\;s Area with bounce castle\, giant inflatable&rsquo\;s\, make your-own-craft and more. &bull\; Please be sure to visit our Sponsors who help make this wonderful event possible: Engle&amp\;V&ouml\;lkers by the Sea\, BMW of Peabody\, Atlantic Fish and The Cape Ann Chamber of Commerce<br />\n&nbsp\;
LOCATION:Stage Fort Park\, Gloucester\, MA
UID:e.2981.14008
SEQUENCE:3
DTSTAMP:20260421T201656Z
URL:https://business.capeannvacations.com/events/details/gloucester-waterfront-festival-14008
END:VEVENT

END:VCALENDAR
