BEGIN:VCALENDAR
VERSION:2.0
PRODID:-//ChamberMaster//Event Calendar 2.0//EN
METHOD:PUBLISH
X-PUBLISHED-TTL:P3D
REFRESH-INTERVAL:P3D
CALSCALE:GREGORIAN
BEGIN:VEVENT
DTSTART:20211129T213000Z
DTEND:20211130T030000Z
X-MICROSOFT-CDO-ALLDAYEVENT:FALSE
SUMMARY:Holiday Lights & Illumination - Hammond Castle Museum
DESCRIPTION:Step into the holiday season as thousands of twinkling lights create a magical holiday wonderland. For the first time in its history\, Hammond Castle Museum will be illuminated for the holiday season! The grounds will be decorated with string lights and the arches\, towers and drawbridge will be illuminated.  Hammond Castle Museum will present the holiday illumination as part of the annual Winter Lights Celebration hosted by Discover Gloucester.\n\nNo reservations are required to enjoy the holiday illumination program. Guests will have free access to our iconic 12th- and 13th-century arches\, Bell Tower\, and Drawbridge.\n\nThis program in sponsored in party by the Cape Ann Savings Bank.
X-ALT-DESC;FMTTYPE=text/html:<span style="font-size:12px"><span style="color:black">Step into the holiday season as thousands of twinkling lights create a magical holiday wonderland. For the first time in its history\, Hammond Castle Museum will be illuminated for the holiday season! The grounds will be decorated with string lights and the arches\, towers and drawbridge will be illuminated.&nbsp\;&nbsp\;</span><span style="color:black">Hammond Castle Museum will present the holiday illumination as part of the annual Winter Lights Celebration hosted by</span><span style="color:black"><a href="https://www.discovergloucester.com/" target="_blank"><span style="color:black">&nbsp\;Discover Gloucester</span></a></span><span style="color:black">.</span></span><br />\n<span style="color:black"><span style="font-size:12.0pt"><span style="font-size:12px">No reservations are required to enjoy the holiday illumination program. Guests will have free access to our iconic 12th- and 13th-century arches\, Bell Tower\, and Drawbridge.<br />\nThis program in sponsored in party by the Cape Ann Savings Bank.&nbsp\;</span></span></span><br />\n<br />\n<br />\n<br />\n&nbsp\;
LOCATION:Hammond Castle Museum 80 Hesperus Avenue Gloucester\, MA 01930
UID:e.2981.21544
SEQUENCE:3
DTSTAMP:20260421T105143Z
URL:https://business.capeannvacations.com/events/details/holiday-lights-illumination-hammond-castle-museum-11-29-2021-21544
END:VEVENT

END:VCALENDAR
