BEGIN:VCALENDAR
VERSION:2.0
PRODID:-//ChamberMaster//Event Calendar 2.0//EN
METHOD:PUBLISH
X-PUBLISHED-TTL:P3D
REFRESH-INTERVAL:P3D
CALSCALE:GREGORIAN
BEGIN:VEVENT
DTSTART:20190712T103000Z
DTEND:20190713T010000Z
X-MICROSOFT-CDO-ALLDAYEVENT:FALSE
SUMMARY:Hook A Cure Fishing Tournament
DESCRIPTION:Catch Stripers and Blues and help us cure Cancer!
X-ALT-DESC;FMTTYPE=text/html:<span style="font-size:36px"><span style="color:#000080"><span style="font-family:arial\,helvetica\,sans-serif">Catch Stripers and Blues and help us cure Cancer!</span></span></span><br />\n&nbsp\;
LOCATION:Cape Ann's Marina Resort 75 Essex Avenue Gloucester\, MA 01930
UID:e.2981.15350
SEQUENCE:3
DTSTAMP:20260421T184628Z
URL:https://business.capeannvacations.com/events/details/hook-a-cure-fishing-tournament-07-12-2019-15350
END:VEVENT

END:VCALENDAR
