BEGIN:VCALENDAR
VERSION:2.0
PRODID:-//ChamberMaster//Event Calendar 2.0//EN
METHOD:PUBLISH
X-PUBLISHED-TTL:P3D
REFRESH-INTERVAL:P3D
CALSCALE:GREGORIAN
BEGIN:VEVENT
DTSTART:20250119T190000Z
DTEND:20250120T000000Z
X-MICROSOFT-CDO-ALLDAYEVENT:FALSE
SUMMARY:Let's Sing Taylor
DESCRIPTION:TWO SHOWS: 2:00PM & 7:00PM\nA Live Band Experience Celebrating Taylor Swift\n\n\nLet's Sing Taylor   A Live Band Experience   is the ultimate tribute to the music of Taylor Swift.  We can show you incredible things\, including the most faithful and lively covers of Queen Taylor's expansive and sacred catalog. Taking the country by storm\, we're bringing the  communal experience of celebrating Taylor's music in a live setting to Swifties near and far. \n\nSo\, let the games begin. Calling all Swifties to sing your hearts out and sport your Taylor inspired attire. You can show up at our party any time.\n\n\n\nLet's Sing Taylor is not endorsed by or in any way affiliated with TAS Rights Management\, Taylor Swift\, or their affiliated entities.
X-ALT-DESC;FMTTYPE=text/html:<br />\n<strong>TWO SHOWS: </strong>2:00PM &amp\; 7:00PM\n<p>A Live Band Experience Celebrating Taylor Swift</p>\n\n<div>\n<p>Let&rsquo\;s Sing Taylor &ndash\; A Live Band Experience &ndash\; is the ultimate tribute to the music of Taylor Swift.&nbsp\; We can show you incredible things\, including the most faithful and lively covers of Queen Taylor&rsquo\;s expansive and sacred catalog. Taking the country by storm\, we&rsquo\;re bringing the&nbsp\; communal experience of celebrating Taylor&rsquo\;s music in a live setting to Swifties near and far.&nbsp\;</p>\n\n<p>So\, let the games begin. Calling all Swifties to sing your hearts out and sport your Taylor inspired attire. You can show up at our party any time.<br />\n<br />\n<span style="color:rgb(0\, 0\, 0)\; font-family:hco gotham ssm\,sans-serif\; font-size:16px">Let&rsquo\;s Sing Taylor is not endorsed by or in any way affiliated with TAS Rights Management\, Taylor Swift\, or their affiliated entities.</span></p>\n</div>\n
LOCATION:The Cabot 286 Cabot St Beverly\, MA 01915
UID:e.2981.34606
SEQUENCE:3
DTSTAMP:20260425T010025Z
URL:https://business.capeannvacations.com/events/details/let-s-sing-taylor-34606
END:VEVENT

END:VCALENDAR
