BEGIN:VCALENDAR
VERSION:2.0
PRODID:-//ChamberMaster//Event Calendar 2.0//EN
METHOD:PUBLISH
X-PUBLISHED-TTL:P3D
REFRESH-INTERVAL:P3D
CALSCALE:GREGORIAN
BEGIN:VEVENT
DTSTART:20250201T000000Z
DTEND:20250201T030000Z
X-MICROSOFT-CDO-ALLDAYEVENT:FALSE
SUMMARY:Live Music
DESCRIPTION:Join us as we host local Musicians Bob & Doug
X-ALT-DESC;FMTTYPE=text/html:Join us as we host local Musicians Bob &amp\; Doug
LOCATION:THE JAMES 55 MAIN STREET ESSEX\, MA
UID:e.2981.34870
SEQUENCE:3
DTSTAMP:20260425T010133Z
URL:https://business.capeannvacations.com/events/details/live-music-34870
END:VEVENT

END:VCALENDAR
