BEGIN:VCALENDAR
VERSION:2.0
PRODID:-//ChamberMaster//Event Calendar 2.0//EN
METHOD:PUBLISH
X-PUBLISHED-TTL:P3D
REFRESH-INTERVAL:P3D
CALSCALE:GREGORIAN
BEGIN:VEVENT
DTSTART;VALUE=DATE:20250125
DTEND;VALUE=DATE:20250127
TRANSP:TRANSPARENT
X-MICROSOFT-CDO-ALLDAYEVENT:TRUE
SUMMARY:Lunch at Machaca\, Gloucester So Salty
DESCRIPTION:Experience Machaca at Lunchtime   A Rare Treat!  \n \n\nFor one special weekend only\, Machaca will open its doors at 12:00 PM noon on \n\nSaturday\, January 25th\, and Sunday\, January 26th for lunch! \n\n\n\nIf you've been craving our authentic Mexican flavors but have only been able to visit us for dinner\, this is your chance to savor Machaca during the day.\n\n\n\nAs part of the Gloucester So Salty Festival\, we're bringing the magic to life with a stunning ice sculpture of a sugar skull displayed outside our restaurant. Don't miss the chance to snap a photo and admire this frosty masterpiece. Stay awhile enjoying a fresh Margarita with lunch!\n\n \n\n  Mark Your Calendars \n\n Dates: January 25th & 26th\n\n Opening Time: 12:00 PM noon (lunch hours only for this special event)
X-ALT-DESC;FMTTYPE=text/html:<span style="color:rgb(0\, 0\, 0)\; font-family:uictfonttextstylebody\; font-size:17px">&nbsp\;</span><strong>Experience Machaca at Lunchtime &ndash\; A Rare Treat!</strong><span style="color:rgb(0\, 0\, 0)\; font-family:uictfonttextstylebody\; font-size:17px">&nbsp\;&nbsp\;</span>\n<p>&nbsp\;</p>\n\n<p><span style="font-family:uictfonttextstylebody">For one special weekend only\,&nbsp\;</span><strong>Machaca</strong><span style="font-family:uictfonttextstylebody">&nbsp\;will open its doors at&nbsp\;</span><strong>12:00 PM noon</strong><span style="font-family:uictfonttextstylebody">&nbsp\;on&nbsp\;</span><br />\n<strong>Saturday\, January 25th\, and Sunday\, January 26th</strong><span style="font-family:uictfonttextstylebody">&nbsp\;for lunch! </span></p>\n\n<p><br />\n<span style="font-family:uictfonttextstylebody">If you&rsquo\;ve been craving our authentic Mexican flavors but have only been able to visit us for dinner\, this is your chance to savor Machaca during the day.<br />\n<br />\nAs part of the&nbsp\;<strong>Gloucester So Salty Festival</strong>\, we&rsquo\;re bringing the magic to life with a stunning&nbsp\;<strong>ice sculpture of a sugar skull</strong>&nbsp\;displayed outside our restaurant. Don&rsquo\;t miss the chance to snap a photo and admire this frosty masterpiece. Stay awhile enjoying a fresh Margarita with lunch!</span></p>\n\n<p>&nbsp\;</p>\n\n<p><span style="font-family:uictfonttextstylebody">&nbsp\;&nbsp\;</span><strong>Mark Your Calendars<font face="uictfonttextstylebody">&nbsp\;</font></strong></p>\n\n<p><font face="uictfonttextstylebody">&nbsp\;</font><strong>Dates:</strong><span style="font-family:uictfonttextstylebody">&nbsp\;January 25th &amp\; 26th</span></p>\n\n<p><font face="uictfonttextstylebody">&nbsp\;</font><strong>Opening Time:</strong><span style="font-family:uictfonttextstylebody">&nbsp\;12:00 PM noon (lunch hours only for this special event)</span></p>\n
LOCATION:14 Rogers St Gloucester\, MA
UID:e.2981.34807
SEQUENCE:3
DTSTAMP:20260425T022302Z
URL:https://business.capeannvacations.com/events/details/lunch-at-machaca-gloucester-so-salty-34807
END:VEVENT

END:VCALENDAR
