BEGIN:VCALENDAR
VERSION:2.0
PRODID:-//ChamberMaster//Event Calendar 2.0//EN
METHOD:PUBLISH
X-PUBLISHED-TTL:P3D
REFRESH-INTERVAL:P3D
CALSCALE:GREGORIAN
BEGIN:VEVENT
DTSTART:20210814T140000Z
DTEND:20210814T150000Z
X-MICROSOFT-CDO-ALLDAYEVENT:FALSE
SUMMARY:Medieval Arms & Armor
DESCRIPTION:Medieval Arms & Armor at Hammond Castle Museum \n\nJoin Hammond Castle Museum Curatorial Director\, John Leysath\, as he walks us through the world of medieval arms and armor. This presentation will delve into the history\, engineering\, and use of armor.  There will be many examples of armor for visitors to see in person. Adult:  $20\, Child 12 & Under:  $15\, Child 5 & Under:  Free. Please visit hammondcastle.org to purchase tickets. The Museum is located at 80 Hesperus Avenue\, Gloucester\, MA.  978-283-2080
X-ALT-DESC;FMTTYPE=text/html:<span style="font-size:16px"><span style="font-family:times new roman"><strong><span style="color:black">Medieval Arms &amp\; Armor at Hammond Castle Museum </span></strong><br />\n<span style="color:black">Join Hammond Castle Museum Curatorial Director\, John Leysath\, as he walks us through the world of medieval arms and armor. This presentation will delve into the history\, engineering\, and use of armor.&nbsp\; There will be many examples of armor for visitors to see in person. Adult: &nbsp\;$20\, Child 12 &amp\; Under: &nbsp\;$15\, Child 5 &amp\; Under: &nbsp\;Free. Please visit hammondcastle.org to purchase tickets. </span><span style="color:black">The Museum is located at 80 Hesperus Avenue\, Gloucester\, MA.&nbsp\; 978-283-2080</span></span></span>
LOCATION:Hammond Castle Museum 80 Hesperus Avenue Gloucester\, MA 01930
UID:e.2981.20938
SEQUENCE:3
DTSTAMP:20260424T185916Z
URL:https://business.capeannvacations.com/events/details/medieval-arms-armor-08-14-2021-20938
END:VEVENT

END:VCALENDAR
