BEGIN:VCALENDAR
VERSION:2.0
PRODID:-//ChamberMaster//Event Calendar 2.0//EN
METHOD:PUBLISH
X-PUBLISHED-TTL:P3D
REFRESH-INTERVAL:P3D
CALSCALE:GREGORIAN
BEGIN:VEVENT
DTSTART:20250112T230000Z
DTEND:20250113T013000Z
X-MICROSOFT-CDO-ALLDAYEVENT:FALSE
SUMMARY:Metropolis w/ The Anvil Orchestra
DESCRIPTION:Join us at The Cabot for a silent film featuring a live score   1927's Metropolis with music by The Anvil Orchestra!\n\n \n\nMetropolis is Fritz Lang's German science-fiction classic that presents a highly stylized futuristic city where a beautiful and cultured utopia exists above a bleak underworld populated by mistreated workers. When the privileged youth Freder (Gustav Fr hlich) discovers the grim scene under the city\, he becomes intent on helping the workers. He befriends the rebellious teacher Maria (Brigitte Helm)\, but this puts him at odds with his authoritative father\, leading to greater conflict.
X-ALT-DESC;FMTTYPE=text/html:<div>Join us at The Cabot for a silent film featuring a live score &ndash\; 1927&rsquo\;s&nbsp\;Metropolis&nbsp\;with music by&nbsp\;The Anvil Orchestra!</div>\n\n<div>&nbsp\;</div>\n\n<div>Metropolis&nbsp\;is Fritz Lang&rsquo\;s German science-fiction classic that presents a highly stylized futuristic city where a beautiful and cultured utopia exists above a bleak underworld populated by mistreated workers. When the privileged youth Freder (Gustav Fr&ouml\;hlich) discovers the grim scene under the city\, he becomes intent&nbsp\;on helping the workers. He befriends the rebellious teacher Maria (Brigitte Helm)\, but this puts him at odds with his authoritative father\, leading to greater conflict.</div>\n
LOCATION:The Cabot 286 Cabot St Beverly\, MA 01915
UID:e.2981.34569
SEQUENCE:3
DTSTAMP:20260424T234744Z
URL:https://business.capeannvacations.com/events/details/metropolis-w-the-anvil-orchestra-34569
END:VEVENT

END:VCALENDAR
