BEGIN:VCALENDAR
VERSION:2.0
PRODID:-//ChamberMaster//Event Calendar 2.0//EN
METHOD:PUBLISH
X-PUBLISHED-TTL:P3D
REFRESH-INTERVAL:P3D
CALSCALE:GREGORIAN
BEGIN:VEVENT
DTSTART:20250119T010000Z
DTEND:20250119T033000Z
X-MICROSOFT-CDO-ALLDAYEVENT:FALSE
SUMMARY:Muse: A Salute to Divas of Dance
DESCRIPTION:Featuring songs from the disco up to today's hits!\n\n \nJoin Jacyn\, Lauren\, Sheree\, and Ananda as they return to The Cabot for Muse: A Salute to Divas of Dance Music". This will be an unforgettable night of high energy music and "girl power" backed by the "Muse House Band"!\n\nThe evening will be hosted by comedian Kelly MacFarland.
X-ALT-DESC;FMTTYPE=text/html:Featuring songs from the disco up to today&rsquo\;s hits!<br />\n&nbsp\;\n<div>Join Jacyn\, Lauren\, Sheree\, and Ananda as they return to The Cabot for Muse: A Salute to Divas of Dance Music&rdquo\;. This will be an unforgettable night of high energy music and &ldquo\;girl power&rdquo\; backed by the &ldquo\;Muse House Band&rdquo\;!</div>\n\n<p>The evening will be hosted by comedian Kelly MacFarland.</p>\n
LOCATION:The Cabot 286 Cabot St Beverly\, MA 01915
UID:e.2981.34579
SEQUENCE:3
DTSTAMP:20260425T010627Z
URL:https://business.capeannvacations.com/events/details/muse-a-salute-to-divas-of-dance-34579
END:VEVENT

END:VCALENDAR
