BEGIN:VCALENDAR
VERSION:2.0
PRODID:-//ChamberMaster//Event Calendar 2.0//EN
METHOD:PUBLISH
X-PUBLISHED-TTL:P3D
REFRESH-INTERVAL:P3D
CALSCALE:GREGORIAN
BEGIN:VEVENT
DTSTART:20250101T020000Z
DTEND:20250101T060000Z
X-MICROSOFT-CDO-ALLDAYEVENT:FALSE
SUMMARY:New Year's Eve At Hammond Castle Museum
DESCRIPTION:WHAT ARE YOU DOING THIS NEW YEAR'S EVE?\n\n\n\nRing in 2025 in regal splendor! Step into a world of enchantment as Hammond Castle Museum's Great Hall transforms into the ultimate New Year's Eve destination with our returning host Bruce Jaques. Dance the night away\, indulge in gourmet treats\, and uncover the mysteries of the Castle's unique chambers. As the clock strikes twelve\, join us for a spectacular champagne toast and witness our dazzling New Year's illumination.\n\n\n\nSo\, gather your friends\, dress to impress\, and create unforgettable memories at Club Castle   the North Shore's most magical New Year's celebration. Welcome 2025 in unparalleled style and grandeur!\n\n\n\nReserve your tickets now to secure your spot at the North Shore's most spectacular New Year's Eve bash.\n\n\n\nDoors open at 9:00 pm and the celebration goes to 1:00 am.\n\n21 & Over\, ID required upon arrival. Cash bar.
X-ALT-DESC;FMTTYPE=text/html:<span style="color:black"><span style="font-size:12.0pt"><em>WHAT ARE YOU DOING THIS NEW YEAR&#39\;S EVE?</em></span></span><br />\n<br />\n<span style="background-color:rgb(255\, 255\, 255)\; color:rgb(24\, 24\, 24)\; font-family:-apple-system\,blinkmacsystemfont\,segoe ui\,roboto\,helvetica\,arial\,sans-serif\,apple color emoji\,segoe ui emoji\,segoe ui symbol\; font-size:14px">Ring in 2025 in regal splendor! Step into a world of enchantment as Hammond Castle Museum&#39\;s Great Hall transforms into the ultimate New Year&#39\;s Eve destination with our returning host Bruce Jaques. Dance the night away\, indulge in gourmet treats\, and uncover the mysteries of the Castle&#39\;s unique chambers. As the clock strikes twelve\, join us for a spectacular champagne toast and witness our dazzling New Year&#39\;s illumination.</span><br />\n<br />\n<span style="background-color:rgb(255\, 255\, 255)\; color:rgb(24\, 24\, 24)\; font-family:-apple-system\,blinkmacsystemfont\,segoe ui\,roboto\,helvetica\,arial\,sans-serif\,apple color emoji\,segoe ui emoji\,segoe ui symbol\; font-size:14px">So\, gather your friends\, dress to impress\, and create unforgettable memories at Club Castle &ndash\; the North Shore&#39\;s most magical New Year&#39\;s celebration. Welcome 2025 in unparalleled style and grandeur!</span><br />\n<br />\n<span style="background-color:rgb(255\, 255\, 255)\; color:rgb(24\, 24\, 24)\; font-family:-apple-system\,blinkmacsystemfont\,segoe ui\,roboto\,helvetica\,arial\,sans-serif\,apple color emoji\,segoe ui emoji\,segoe ui symbol\; font-size:14px">Reserve your tickets now to secure your spot at the North Shore&rsquo\;s most spectacular New Year&#39\;s Eve bash.</span><br />\n<br />\n<span style="background-color:rgb(255\, 255\, 255)\; color:rgb(24\, 24\, 24)\; font-family:-apple-system\,blinkmacsystemfont\,segoe ui\,roboto\,helvetica\,arial\,sans-serif\,apple color emoji\,segoe ui emoji\,segoe ui symbol\; font-size:14px">Doors open at 9:00 pm and the celebration goes to 1:00 am.</span><br />\n<span style="background-color:rgb(255\, 255\, 255)\; color:rgb(24\, 24\, 24)\; font-family:-apple-system\,blinkmacsystemfont\,segoe ui\,roboto\,helvetica\,arial\,sans-serif\,apple color emoji\,segoe ui emoji\,segoe ui symbol\; font-size:14px">21 &amp\; Over\, ID required upon arrival. Cash bar.</span><br />\n<br />\n<br />\n&nbsp\;
LOCATION:Hammond Castle Museum 80 Hesperus Avenue Gloucester\, MA 01930
UID:e.2981.34199
SEQUENCE:3
DTSTAMP:20260425T022610Z
URL:https://business.capeannvacations.com/events/details/new-year-s-eve-at-hammond-castle-museum-12-31-2024-34199
END:VEVENT

END:VCALENDAR
