BEGIN:VCALENDAR
VERSION:2.0
PRODID:-//ChamberMaster//Event Calendar 2.0//EN
METHOD:PUBLISH
X-PUBLISHED-TTL:P3D
REFRESH-INTERVAL:P3D
CALSCALE:GREGORIAN
BEGIN:VEVENT
DTSTART:20250116T150000Z
DTEND:20250116T164500Z
X-MICROSOFT-CDO-ALLDAYEVENT:FALSE
SUMMARY:Rebuilding the Past: Pulling Back the Curtain on Recent Historic Restorations at Hammond Castle Museum
DESCRIPTION:10:00 - 10:30 am: Coffee & light refreshments\n\n10:30 - 11:30 am: Presentation\n\n11:30 - 11:45 am: Q&A/Conclusion.\n\n\n\nHow do you restore a medieval castle?\n\nAnyone who has ever visited Hammond Castle Museum knows that it is no ordinary building. One of the stated goals of the Museum's founder\, John Hays Hammond Jr.\, was to create a Museum that not only housed his vast collection of historical artifacts but displayed a wide variety of different architectural techniques and embellishments. Using 1920s construction techniques\, the structure combines architectural elements of Renaissance-era Ch teaus with those of 13th-century Gothic cathedrals and genuine historical pieces imported from Europe. Ever since the Museum was constructed nearly 100 years ago the preservation of this one-of-a-kind North Shore landmark has been a constant mission in order to further Hammond's vision.\n\n\n\nOn January 16th\, join us for a detailed discussion of recent and ongoing restoration efforts at the Museum with contractor and mason Roger Tremblay and Director of Education & Visitor Services Caleb McMurphy.  In the past few years\, Tremblay\, and his firm A+R Construction\, have headed some of the most significant restoration projects in the Museum's history\, including the renovation of the Museum's iconic 13th-century French monastery arches\, originally situated in the Franciscan monastery of Couvent des Cordeliers\, in Gers\, France. In 2024\, Tremblay's team intervened to save a portion of the "towers" section of the building\, modeled off of an 11th-century Norman keep\, which had been badly damaged by winter weather.\n\n\n\nOver the course of an hour\, Tremblay and McMurphy will discuss these and other ongoing and upcoming restoration projects\, using photos taken during the work itself to give a look behind the curtain at just what it takes to maintain such a unique and historic building. After this\, audience members will have a chance to ask questions of their own and get an opportunity to become involved with Hammond Castle Museum's continuing mission to preserve John Hays Hammond Jr.'s legacy.  \n\n\n\nMember savings apply.\n\nProceeds from this program will support the restoration and preservation of the Hammond Castle Museum.
X-ALT-DESC;FMTTYPE=text/html:<span style="background-color:rgb(255\, 255\, 255)\; color:rgb(24\, 24\, 24)\; font-family:-apple-system\,blinkmacsystemfont\,segoe ui\,roboto\,helvetica\,arial\,sans-serif\,apple color emoji\,segoe ui emoji\,segoe ui symbol\; font-size:14px">10:00 - 10:30 am: Coffee &amp\; light refreshments</span><br />\n<span style="background-color:rgb(255\, 255\, 255)\; color:rgb(24\, 24\, 24)\; font-family:-apple-system\,blinkmacsystemfont\,segoe ui\,roboto\,helvetica\,arial\,sans-serif\,apple color emoji\,segoe ui emoji\,segoe ui symbol\; font-size:14px">10:30 - 11:30 am: Presentation</span><br />\n<span style="background-color:rgb(255\, 255\, 255)\; color:rgb(24\, 24\, 24)\; font-family:-apple-system\,blinkmacsystemfont\,segoe ui\,roboto\,helvetica\,arial\,sans-serif\,apple color emoji\,segoe ui emoji\,segoe ui symbol\; font-size:14px">11:30 - 11:45 am: Q&amp\;A/Conclusion.</span><br />\n<br />\n<em><strong><span style="background-color:rgb(255\, 255\, 255)\; color:rgb(24\, 24\, 24)\; font-family:-apple-system\,blinkmacsystemfont\,segoe ui\,roboto\,helvetica\,arial\,sans-serif\,apple color emoji\,segoe ui emoji\,segoe ui symbol\; font-size:14px">How do you restore a medieval castle?</span></strong></em><br />\n<span style="background-color:rgb(255\, 255\, 255)\; color:rgb(24\, 24\, 24)\; font-family:-apple-system\,blinkmacsystemfont\,segoe ui\,roboto\,helvetica\,arial\,sans-serif\,apple color emoji\,segoe ui emoji\,segoe ui symbol\; font-size:14px">Anyone who has ever visited Hammond Castle Museum knows that it is no ordinary building. One of the stated goals of the Museum&rsquo\;s founder\, John Hays Hammond Jr.\, was to create a Museum that not only housed his vast collection of historical artifacts but displayed a wide variety of different architectural techniques and embellishments. Using 1920s construction techniques\, the structure combines architectural elements of Renaissance-era Ch&acirc\;teaus with those of 13th-century Gothic cathedrals and genuine historical pieces imported from Europe. Ever since the Museum was constructed&mdash\;nearly 100 years ago&mdash\;the preservation of this one-of-a-kind North Shore landmark has been a constant mission in order to further Hammond&rsquo\;s vision.</span><br />\n<br />\n<span style="background-color:rgb(255\, 255\, 255)\; color:rgb(24\, 24\, 24)\; font-family:-apple-system\,blinkmacsystemfont\,segoe ui\,roboto\,helvetica\,arial\,sans-serif\,apple color emoji\,segoe ui emoji\,segoe ui symbol\; font-size:14px">On January 16th\, join us for a detailed discussion of recent and ongoing restoration efforts at the Museum with contractor and mason Roger Tremblay and Director of Education &amp\; Visitor Services Caleb McMurphy.&nbsp\; In the past few years\, Tremblay\, and his firm A+R Construction\, have headed some of the most significant restoration projects in the Museum&rsquo\;s history\, including the renovation of the Museum&rsquo\;s iconic 13th-century French monastery arches\, originally situated in the Franciscan monastery of Couvent des Cordeliers\, in Gers\, France. In 2024\, Tremblay&rsquo\;s team intervened to save a portion of the &ldquo\;towers&rdquo\; section of the building\, modeled off of an 11th-century Norman keep\, which had been badly damaged by winter weather.</span><br />\n<br />\n<span style="background-color:rgb(255\, 255\, 255)\; color:rgb(24\, 24\, 24)\; font-family:-apple-system\,blinkmacsystemfont\,segoe ui\,roboto\,helvetica\,arial\,sans-serif\,apple color emoji\,segoe ui emoji\,segoe ui symbol\; font-size:14px">Over the course of an hour\, Tremblay and McMurphy will discuss these and other ongoing and upcoming restoration projects\, using photos taken during the work itself to give a look behind the curtain at just what it takes to maintain such a unique and historic building. After this\, audience members will have a chance to ask questions of their own and get an opportunity to become involved with Hammond Castle Museum&rsquo\;s continuing mission to preserve John Hays Hammond Jr.&rsquo\;s legacy. &nbsp\;</span><br />\n<br />\n<span style="background-color:rgb(255\, 255\, 255)\; color:rgb(24\, 24\, 24)\; font-family:-apple-system\,blinkmacsystemfont\,segoe ui\,roboto\,helvetica\,arial\,sans-serif\,apple color emoji\,segoe ui emoji\,segoe ui symbol\; font-size:14px">Member savings apply.</span><br />\n<span style="background-color:rgb(255\, 255\, 255)\; color:rgb(24\, 24\, 24)\; font-family:-apple-system\,blinkmacsystemfont\,segoe ui\,roboto\,helvetica\,arial\,sans-serif\,apple color emoji\,segoe ui emoji\,segoe ui symbol\; font-size:14px">Proceeds from this program will support the restoration and preservation of the Hammond Castle Museum.</span>
LOCATION:Hammond Castle Museum 80 Hesperus Avenue Gloucester\, MA 01930
UID:e.2981.34536
SEQUENCE:3
DTSTAMP:20260425T022548Z
URL:https://business.capeannvacations.com/events/details/rebuilding-the-past-pulling-back-the-curtain-on-recent-historic-restorations-at-hammond-castle-museum-34536
END:VEVENT

END:VCALENDAR
