BEGIN:VCALENDAR
VERSION:2.0
PRODID:-//ChamberMaster//Event Calendar 2.0//EN
METHOD:PUBLISH
X-PUBLISHED-TTL:P3D
REFRESH-INTERVAL:P3D
CALSCALE:GREGORIAN
BEGIN:VEVENT
DTSTART:20250124T230000Z
DTEND:20250125T010000Z
X-MICROSOFT-CDO-ALLDAYEVENT:FALSE
SUMMARY:Revive Wellness - Paint Night & Wigs
DESCRIPTION:Paint Night & Wigs at Revive Wellness\n\nWellness through Laughter\n\nPaint your friend or partner\, wearing a funny wig!\n\nRefreshments
X-ALT-DESC;FMTTYPE=text/html:<strong>Paint Night &amp\; Wigs at Revive Wellness</strong><br />\n<em>Wellness through Laughter</em><br />\nPaint your friend or partner\, wearing a funny wig!<br />\nRefreshments<br />\n&nbsp\;
LOCATION:
UID:e.2981.34818
SEQUENCE:3
DTSTAMP:20260425T023006Z
URL:https://business.capeannvacations.com/events/details/revive-wellness-paint-night-wigs-34818
END:VEVENT

END:VCALENDAR
