BEGIN:VCALENDAR
VERSION:2.0
PRODID:-//ChamberMaster//Event Calendar 2.0//EN
METHOD:PUBLISH
X-PUBLISHED-TTL:P3D
REFRESH-INTERVAL:P3D
CALSCALE:GREGORIAN
BEGIN:VEVENT
DTSTART:20191211T220000Z
DTEND:20191212T000000Z
X-MICROSOFT-CDO-ALLDAYEVENT:FALSE
SUMMARY:Rockport Holiday Party and Half Price Sale
DESCRIPTION:Join the Rockport Division of the Cape Ann Chamber of Commerce for the Annual Hoiday Party and Half Price Sale.\n\nStart your Holiday Shopping with some Great deals!!\n\nWe will have gifts from many of our great shops and businesses throughout Rockport up for sale at half of the retail cost.  You bid on the ability to buy the items you are interested in - it is a Fun night!\n\nAppetizers and a cash bar will be offered.
X-ALT-DESC;FMTTYPE=text/html:Join the Rockport Division of the Cape Ann Chamber of Commerce for the Annual Hoiday Party and Half Price Sale.<br />\nStart your Holiday Shopping with some Great deals!!<br />\nWe will have gifts from many of our great shops and businesses throughout Rockport up for sale at half of the retail cost.&nbsp\; You bid on the ability to buy the items you are interested in - it is a Fun night!<br />\nAppetizers and a cash bar will be offered.
LOCATION:Roy Moore's Fish Shack Dock Square Rockport
UID:e.2981.5334
SEQUENCE:3
DTSTAMP:20260421T200702Z
URL:https://business.capeannvacations.com/events/details/rockport-holiday-party-and-half-price-sale-5334
END:VEVENT

END:VCALENDAR
