BEGIN:VCALENDAR
VERSION:2.0
PRODID:-//ChamberMaster//Event Calendar 2.0//EN
METHOD:PUBLISH
X-PUBLISHED-TTL:P3D
REFRESH-INTERVAL:P3D
CALSCALE:GREGORIAN
BEGIN:VEVENT
DTSTART;VALUE=DATE:20190809
DTEND;VALUE=DATE:20190812
TRANSP:TRANSPARENT
X-MICROSOFT-CDO-ALLDAYEVENT:TRUE
SUMMARY:Rockport Illuminations Weekend
DESCRIPTION:Rockport Lobsterfest & Fireworks Display\n\nOld Granite Pier\, Sandy Bay\, Rockport\n\nAs dusk descends on Rockport\, settle in at Back Beach and the American Legion Bandstand to watch the seventh annual summertime fireworks display over Sandy Bay. The fireworks display will follow the Rockport Rotary Club's Lobsterfest (3 to 7 pm Saturday)\, a unique\, annual\, outdoor dining and fundraising event at the Legion Bandstand\, serving boiled lobster\, clam chowder and more. These are the centerpiece events of Rockport's Illuminations Weekend\, but there are so many more reasons to spend time in Rockport this weekend. Here is a listing of events all weekend long:\nFriday\, August 9\n\nIlluminations Night\n\nthe town is lit with paper lanterns with a contest for businesses and residences\n\nOpen House at David Arsenault Gallery \n\n5:00 p.m. - 8:00 p.m.\n\nCape Ann Plein Air Nocturnal Paint\n\nSaturday\, August 10\n\nFamily Activities\n\nRockport Baptist Church/Harvey Park\n\nLantern Painting  \n\n11:00 a.m. - 2:30 p.m. \n\nCome and paint your own lantern to hang up for Illumination Weekend\n\nMeet the author Jenny Amory "Moon Walk"\n\n11:00 a.m.\n\nshe will be reading her book and autographing copies\n\nLobster Stories \n\n12:00 p.m. - 2:00 p.m. \n\nAround Town\n\nRockport Farmers Market \n\n9:00 a.m. - 1:00 p.m. \n\nHarvey Park\n\nRockport Cultural District Walking Tour \n\n10:00 a.m.\n\nDock Square\n\nMeet Rockport Lobstermen and hear about lobstering \n\n2:00 p.m. - 5:00 p.m.\n\nPigeon Cove Harbor\, Granite Pier\, and T-Wharf \n\nLive Music in Dock Square \n\n2:00 p.m. - 9:00 p.m. \n\n	Headlands 2:00 - 4:00 p.m.\n	Kiva Trumbour 4:30 - 6:30 p.m.\n	4x4 Jazz Quartet 7:00 - 9:00 p.m.\n\n Cape Ann Plein Air\n\nwatch artist painting around town all things lobsters\n\nIlluminations Night\n\nthe town is lit with paper lanterns with a contest for businesses and residence\n\nRotary Club Lobsterfest\n\n3:00 - 7:00 p.m.\n\nBack Beach\n\nFireworks from Granite Pier\n\n9:00 p.m.\n\n{weather permitting}\n\nSunday\, August 11\n\nCape Ann Plein Air Show and Sale\n\n2:00 - 5:00 p.m.\n\nRockport Art Association and Museum \n\n \n\nKen Knowles Painting Raffle Drawing\n\n2:00 p.m.\n\nRockport Art Association and Museum\n\npurchase raffle tickets at Katie's Gift Shop or Rockport Candle Company or at the auction from a member of our committee.\n\nFor an Illuminations Weekend map and full schedule of activities visit http://rockportilluminations.com/.
X-ALT-DESC;FMTTYPE=text/html:Rockport Lobsterfest &amp\; Fireworks Display<br />\nOld Granite Pier\, Sandy Bay\, Rockport<br />\nAs dusk descends on Rockport\, settle in at Back Beach and the American Legion Bandstand to watch the seventh annual summertime fireworks display over Sandy Bay. The fireworks display will follow the Rockport Rotary Club&rsquo\;s Lobsterfest (3 to 7 pm Saturday)\, a unique\, annual\, outdoor dining and fundraising event at the Legion Bandstand\, serving boiled lobster\, clam chowder and more. These are the centerpiece events of Rockport&#39\;s Illuminations Weekend\, but there are so many more reasons to spend time in Rockport this weekend. Here is a listing of events all weekend long:\n<div style="clear:both\;"><span style="font-size:14px\;"><span style="font-family:tahoma\;"><strong><span style="position:relative\;top:-3.0pt\;"><span style="color:#E8092B\;">Friday\, August 9</span></span></strong><br />\n<strong><span style="position:relative\;top:-3.0pt\;"><span style="color:#133D7D\;">Illuminations Night</span></span></strong><br />\n<span style="position:relative\;top:-3.0pt\;"><span style="color:#0A0A0A\;">the town is lit with paper lanterns with a contest for businesses and residences</span></span><br />\n<strong><span style="position:relative\;top:-3.0pt\;"><span style="color:#133D7D\;">Open House at David Arsenault Gallery </span></span></strong><br />\n<span style="position:relative\;top:-3.0pt\;"><span style="color:#0A0A0A\;">5:00 p.m. - 8:00 p.m.</span></span><br />\n<strong><span style="position:relative\;top:-3.0pt\;"><span style="color:#133D7D\;">Cape Ann Plein Air&mdash\;Nocturnal Paint</span><br />\n<span style="color:#E8092B\;">Saturday\, August 10</span></span></strong><br />\n<strong><span style="position:relative\;top:-3.0pt\;"><span style="color:#0D4851\;">Family Activities</span></span></strong><br />\n<strong><span style="position:relative\;top:-3.0pt\;"><span style="color:#0D4851\;"><strong>Rockport Baptist Church/Harvey Park</strong></span></span></strong><br />\n<strong><span style="position:relative\;top:-3.0pt\;"><span style="color:#133D7D\;">Lantern Painting&nbsp\; </span></span></strong><br />\n<strong><span style="position:relative\;top:-3.0pt\;"><span style="color:#0A0A0A\;">11:00 a.m. - 2:30 p.m.&nbsp\;</span></span></strong><br />\n<strong><span style="position:relative\;top:-3.0pt\;"><span style="color:#0A0A0A\;"><strong>Come and paint your own lantern to hang up for Illumination Weekend</strong></span></span></strong><br />\n<strong><span style="position:relative\;top:-3.0pt\;"><span style="color:#133D7D\;">Meet the author Jenny Amory &ldquo\;Moon Walk&rdquo\;</span></span></strong><br />\n<strong><span style="position:relative\;top:-3.0pt\;"><span style="color:#0A0A0A\;">11:00 a.m.</span></span></strong><br />\n<strong><span style="position:relative\;top:-3.0pt\;"><span style="color:#0A0A0A\;"><strong>she will be reading her book and autographing copies</strong></span></span></strong><br />\n<strong><span style="position:relative\;top:-3.0pt\;"><span style="color:#133D7D\;">Lobster Stories </span></span></strong><br />\n<strong><span style="position:relative\;top:-3.0pt\;"><span style="color:#0A0A0A\;">12:00 p.m. - 2:00 p.m.&nbsp\;</span></span></strong><br />\n<strong><span style="position:relative\;top:-3.0pt\;"><span style="color:#0D4851\;">Around Town</span></span></strong><br />\n<strong><span style="position:relative\;top:-3.0pt\;"><span style="color:#133D7D\;">Rockport Farmers Market </span></span></strong><br />\n<strong><span style="position:relative\;top:-3.0pt\;"><span style="color:#0A0A0A\;">9:00 a.m. - 1:00 p.m.&nbsp\;</span></span></strong><br />\n<strong><span style="position:relative\;top:-3.0pt\;"><span style="color:#0A0A0A\;"><strong>Harvey Park</strong></span></span></strong><br />\n<strong><span style="position:relative\;top:-3.0pt\;"><span style="color:#133D7D\;">Rockport Cultural District Walking Tour </span></span></strong><br />\n<strong><span style="position:relative\;top:-3.0pt\;"><span style="color:#0A0A0A\;">10:00 a.m.</span></span></strong><br />\n<strong><span style="position:relative\;top:-3.0pt\;"><span style="color:#0A0A0A\;"><strong>Dock Square</strong></span></span></strong><br />\n<strong><span style="position:relative\;top:-3.0pt\;"><span style="color:#133D7D\;">Meet Rockport Lobstermen and hear about lobstering </span></span></strong><br />\n<strong><span style="position:relative\;top:-3.0pt\;"><span style="color:#0A0A0A\;">2:00 p.m. - 5:00 p.m.</span></span></strong><br />\n<strong><span style="position:relative\;top:-3.0pt\;"><span style="color:#0A0A0A\;"><strong>Pigeon Cove Harbor\, Granite Pier\, and T-Wharf&nbsp\;</strong></span></span></strong><br />\n<strong><span style="position:relative\;top:-3.0pt\;"><span style="color:#133D7D\;">Live Music in Dock Square </span></span></strong><br />\n<strong><span style="position:relative\;top:-3.0pt\;"><span style="color:#0A0A0A\;">2:00 p.m. - 9:00 p.m.&nbsp\;</span></span></strong></span></span>\n<ul>\n	<li style="margin-top:0in\;margin-right:0in\;margin-bottom:0in\;margin-bottom:.0001pt\;"><span style="font-size:14px\;"><span style="font-family:tahoma\;"><strong><span style="position:relative\;top:-3.0pt\;"><span style="color:#0A0A0A\;">Headlands 2:00 - 4:00 p.m.</span></span></strong></span></span></li>\n	<li style="margin-top:0in\;margin-right:0in\;margin-bottom:0in\;margin-bottom:.0001pt\;"><span style="font-size:14px\;"><span style="font-family:tahoma\;"><strong><span style="position:relative\;top:-3.0pt\;"><span style="color:#0A0A0A\;">Kiva Trumbour 4:30 - 6:30 p.m.</span></span></strong></span></span></li>\n	<li style="margin-top:0in\;margin-right:0in\;margin-bottom:0in\;margin-bottom:.0001pt\;"><span style="font-size:14px\;"><span style="font-family:tahoma\;"><strong><span style="position:relative\;top:-3.0pt\;"><span style="color:#0A0A0A\;">4x4 Jazz Quartet 7:00 - 9:00 p.m.</span></span></strong></span></span></li>\n</ul>\n<span style="font-size:14px\;"><span style="font-family:tahoma\;"> <strong><span style="position:relative\;top:-3.0pt\;"><span style="color:#133D7D\;">Cape Ann Plein Air</span></span></strong><br />\n<strong><span style="position:relative\;top:-3.0pt\;"><span style="color:#0A0A0A\;">watch artist painting around town all things lobsters</span></span></strong><br />\n<strong><span style="position:relative\;top:-3.0pt\;"><span style="color:#133D7D\;">Illuminations Night</span></span></strong><br />\n<strong><span style="position:relative\;top:-3.0pt\;"><span style="color:#0A0A0A\;">the town is lit with paper lanterns with a contest for businesses and residence</span></span></strong><br />\n<strong><span style="position:relative\;top:-3.0pt\;"><span style="color:#133D7D\;">Rotary Club Lobsterfest</span></span></strong><br />\n<strong><span style="position:relative\;top:-3.0pt\;"><span style="color:#0A0A0A\;">3:00 - 7:00 p.m.</span></span></strong><br />\n<strong><span style="position:relative\;top:-3.0pt\;"><span style="color:#0A0A0A\;"><strong>Back Beach</strong></span></span></strong><br />\n<strong><span style="position:relative\;top:-3.0pt\;"><span style="color:#E8092B\;">Fireworks from Granite Pier</span></span></strong><br />\n<strong><span style="position:relative\;top:-3.0pt\;"><span style="color:#E8092B\;"><strong>9:00 p.m.</strong></span></span></strong><br />\n<strong><span style="position:relative\;top:-3.0pt\;"><span style="color:#0A0A0A\;">{weather permitting}</span><br />\n<span style="color:#E8092B\;">Sunday\, August 11</span></span></strong><br />\n<strong><span style="position:relative\;top:-3.0pt\;"><span style="color:#133D7D\;">Cape Ann Plein Air&mdash\;Show and Sale</span></span></strong><br />\n<span style="position:relative\;top:-3.0pt\;"><span style="color:#0A0A0A\;">2:00 - 5:00 p.m.<br />\nRockport Art Association and Museum&nbsp\;</span></span><br />\n&nbsp\;<br />\n<strong><span style="position:relative\;top:-3.0pt\;"><span style="color:#133D7D\;">Ken Knowles Painting Raffle Drawing</span></span></strong><br />\n<span style="position:relative\;top:-3.0pt\;"><span style="color:#0A0A0A\;">2:00 p.m.<br />\nRockport Art Association and Museum<br />\npurchase raffle tickets at Katie&rsquo\;s Gift Shop or Rockport Candle Company or at the auction from a member of our committee.</span></span></span></span><br />\nFor an Illuminations Weekend map and full schedule of activities visit&nbsp\;<a href="http://rockportilluminations.com/">http://rockportilluminations.com/</a>.&nbsp\;&nbsp\;</div>\n
LOCATION:Downtown Rockport
UID:e.2981.14007
SEQUENCE:3
DTSTAMP:20260421T201656Z
URL:https://business.capeannvacations.com/events/details/rockport-illuminations-weekend-14007
END:VEVENT

END:VCALENDAR
