BEGIN:VCALENDAR
VERSION:2.0
PRODID:-//ChamberMaster//Event Calendar 2.0//EN
METHOD:PUBLISH
X-PUBLISHED-TTL:P3D
REFRESH-INTERVAL:P3D
CALSCALE:GREGORIAN
BEGIN:VEVENT
DTSTART;VALUE=DATE:20241231
DTEND;VALUE=DATE:20250102
TRANSP:TRANSPARENT
X-MICROSOFT-CDO-ALLDAYEVENT:TRUE
SUMMARY:Roll into the New Year with us!
DESCRIPTION:NYE SPECIAL\n\n1.5 hrs of bowling & shoe rentals for up to 6 bowlers.\n\nA large cheese pizza\, a pitcher of soft drinks &\n\na bottle Prosecco!\n\nOnly $119.95 per lane!\n\n?\n\nDELUXE NYE SPECIAL\n\n2 hrs of bowling for up to 6 people.\n\nShoe rentals included.\n\nAppetizer of your choice.\n\nLarge pizza of your choice.\n\nPitchers of soft drinks.\n\nBottle of Prosecco OR\n\nPitcher of our Laneside Pub & Brewery Craft Beer!\n\nOnly $149.95 per lane!\n\n?\n\nReservations recommended. Valid December 31\, 11 AM - January 1\, 12:30 AM.\n\nLast start for this special is 10:30 PM.\n\nMust have 2 adults 21+ in party.\n\n \n\nhttps://www.capeannlanes.com/event-calendar/nyespecial
X-ALT-DESC;FMTTYPE=text/html:<div>NYE SPECIAL</div>\n\n<div>1.5 hrs of bowling &amp\; shoe rentals for up to 6 bowlers.</div>\n\n<div>A large cheese pizza\, a pitcher of soft drinks &amp\;<br />\na bottle Prosecco!</div>\n\n<div>Only $119.95 per lane!</div>\n\n<div>?</div>\n\n<div>DELUXE NYE SPECIAL</div>\n\n<div>2 hrs of bowling for up to 6 people.</div>\n\n<div>Shoe rentals included.</div>\n\n<div>Appetizer of your choice.</div>\n\n<div>Large pizza of your choice.</div>\n\n<div>Pitchers of soft drinks.</div>\n\n<div>Bottle of Prosecco OR</div>\n\n<div>Pitcher of our Laneside Pub &amp\; Brewery Craft Beer!</div>\n\n<div>Only $149.95 per lane!</div>\n\n<div>?</div>\n\n<div>Reservations recommended. Valid December 31\, 11 AM - January 1\, 12:30 AM.</div>\n\n<div>Last start for this special is 10:30 PM.<br />\nMust have 2 adults 21+ in party.</div>\n\n<div>&nbsp\;</div>\n\n<div><a class="x1i10hfl xjbqb8w x1ejq31n xd10rxx x1sy0etr x17r0tee x972fbf xcfux6l x1qhh985 xm0m39n x9f619 x1ypdohk xt0psk2 xe8uvvx xdj266r x11i5rnm xat24cr x1mh8g0r xexx8yu x4uap5 x18d9i69 xkhd6sd x16tdsg8 x1hl2dhg xggy1nq x1a2a7pz x1sur9pj xkrqix3 x1fey0fg x1s688f" href="https://www.capeannlanes.com/event-calendar/nyespecial?fbclid=IwZXh0bgNhZW0CMTAAAR2yRd27qNevr-AYCeE3LhYWZ0vFGg70Xoj6hplSbNcmNZRxRYX_7pIPFWE_aem_Y4RtrgFHQht45BnT5oUsDw" rel="nofollow noreferrer" style="color: var(--blue-link)\; cursor: pointer\; text-decoration-line: none\; list-style: none\; margin: 0px\; text-align: inherit\; border-style: none\; padding: 0px\; box-sizing: border-box\; border-width: 0px\; outline: none\; -webkit-tap-highlight-color: transparent\; font-weight: 600\; touch-action: manipulation\; background-color: transparent\; display: inline\; font-family: inherit\;" tabindex="0" target="_blank">https://www.capeannlanes.com/event-calendar/nyespecial</a></div>\n
LOCATION:Cape Ann Lanes 53 Gloucester Ave Gloucester\, MA 01930
UID:e.2981.34504
SEQUENCE:3
DTSTAMP:20260425T022302Z
URL:https://business.capeannvacations.com/events/details/roll-into-the-new-year-with-us-34504
END:VEVENT

END:VCALENDAR
