BEGIN:VCALENDAR
VERSION:2.0
PRODID:-//ChamberMaster//Event Calendar 2.0//EN
METHOD:PUBLISH
X-PUBLISHED-TTL:P3D
REFRESH-INTERVAL:P3D
CALSCALE:GREGORIAN
BEGIN:VEVENT
DTSTART:20221020T130000Z
DTEND:20221020T140000Z
X-MICROSOFT-CDO-ALLDAYEVENT:FALSE
SUMMARY:RUN: Effective Contract Drafting and Negotiation to Close Deals Quickly
DESCRIPTION:Join us in October for the second of several (complimentary!) sessions led by the Morse Women Attorneys Group. Each session will focus on an area of law essential to the business lifecycle\, start to exit and everything in between.\n\nOn Thursday\, October 20\, Amanda Schreyer will discuss strategies for drafting and negotiating contracts to efficiently achieve the best outcomes\, while still closing deals quickly. We will approach these strategies from both sides of the table\, and will look at ways to find middle ground on key terms that is acceptable to both parties.\n\n\n\nAll are welcome! REGISTER FOR ZOOM LINK.
X-ALT-DESC;FMTTYPE=text/html:<p>Join us in October for the second of several (complimentary!) sessions led by the <a href="http://www.morse.law">Morse</a> Women Attorneys Group. Each session will focus on an area of law essential to the business lifecycle\, start to exit and everything in between.</p>\n\n<p>On Thursday\, October 20\,&nbsp\;<u><a href="https://www.morse.law/attorney/amanda-schreyer/" rel="noreferrer noopener" style="margin: 0px\; padding: 0px\; border: none\; font: inherit\; vertical-align: baseline\; color: rgb(44\, 140\, 172)\; text-decoration-line: none\; outline: none\;" target="_blank">Amanda Schreyer</a></u>&nbsp\;will discuss strategies for drafting and negotiating contracts to efficiently achieve the best outcomes\, while still closing deals quickly. We will approach these strategies from both sides of the table\, and will look at ways to find middle ground on key terms that is acceptable to both parties.<br />\n<br />\n<strong>All are welcome! REGISTER FOR ZOOM LINK.</strong></p>\n
LOCATION:Zoom
UID:e.2981.23148
SEQUENCE:3
DTSTAMP:20260425T105230Z
URL:https://business.capeannvacations.com/events/details/run-effective-contract-drafting-and-negotiation-to-close-deals-quickly-23148
END:VEVENT

END:VCALENDAR
