BEGIN:VCALENDAR
VERSION:2.0
PRODID:-//ChamberMaster//Event Calendar 2.0//EN
METHOD:PUBLISH
X-PUBLISHED-TTL:P3D
REFRESH-INTERVAL:P3D
CALSCALE:GREGORIAN
BEGIN:VEVENT
DTSTART:20170331T000000Z
DTEND:20170331T000000Z
X-MICROSOFT-CDO-ALLDAYEVENT:FALSE
SUMMARY:SFJazz Collective: The Music of Miles Davis
DESCRIPTION:The SFJAZZ Collective is an all-star award-winning jazz ensemble comprising eight of the finest performers/composers at work in jazz today. Each season the Collective focuses its repertoire on a different modern master\, and this season the octet will be exploring the music of Miles Davis.
X-ALT-DESC;FMTTYPE=text/html:The SFJAZZ Collective is an all-star award-winning jazz ensemble comprising eight of the finest performers/composers at work in jazz today. Each season the Collective focuses its repertoire on a different modern master\, and this season the octet will be exploring the music of Miles Davis.
LOCATION:37 Main Street\, Rockport\, Ma 01966 Shalin Liu Performance Center
UID:e.2981.2558
SEQUENCE:3
DTSTAMP:20260421T015438Z
URL:https://business.capeannvacations.com/events/details/sfjazz-collective-the-music-of-miles-davis-03-30-2017-2558
END:VEVENT

END:VCALENDAR
