BEGIN:VCALENDAR
VERSION:2.0
PRODID:-//ChamberMaster//Event Calendar 2.0//EN
METHOD:PUBLISH
X-PUBLISHED-TTL:P3D
REFRESH-INTERVAL:P3D
CALSCALE:GREGORIAN
BEGIN:VEVENT
DTSTART:20191219T233000Z
DTEND:20191220T003000Z
X-MICROSOFT-CDO-ALLDAYEVENT:FALSE
SUMMARY:Snacks + Nutrition with Darren: Wine and Cheese Party!
DESCRIPTION:A Nutrition Series with Darren Burke\n\nJoin Darren Burke\, Certified Nutritionist\, for an educational lecture series that will highlight simple and effective ways to clean up your eating habits. You'll learn about what foods are in season and recipes that incorporate those foods!\n\nDecember 19th - 6:30 PM: Wine and Cheese Party!\n\n\n	Happy Holidays! Time for wine - but which one is best? Conventional wine? Organic wine? Biodynamic wine? Red? White? Rose? Sample different wines\, cheeses and other foods that are great for holiday parties or enjoying at home!\n\n\n\nClass held in the MAC Cafe\n\nSign up at the front desk\, through the MAC app or by emailing Darren! dburke@macathletics.com
X-ALT-DESC;FMTTYPE=text/html:<h2><strong>A Nutrition Series with Darren Burke</strong></h2>\n\n<p>Join Darren Burke\, Certified Nutritionist\, for an educational lecture series that will highlight simple and effective ways to clean up your eating habits. You&#39\;ll learn about what foods are in season and recipes that incorporate those foods!</p>\n\n<p><strong>December 19th - 6:30 PM: Wine and Cheese Party!</strong></p>\n\n<ul>\n	<li>Happy Holidays! Time for wine - but which one is best? Conventional wine? Organic wine? Biodynamic wine? Red? White? Rose? Sample different wines\, cheeses and other foods that are great for holiday parties or enjoying at home!</li>\n</ul>\n\n<hr />\n<p><strong>Class held in the MAC Cafe</strong></p>\n\n<p>Sign up at the front desk\, through the MAC app or by emailing Darren! dburke@macathletics.com</p>\n
LOCATION:Manchester Athletic Club 8 Atwater Avenue\, Manchester\, MA 01944
UID:e.2981.16936
SEQUENCE:3
DTSTAMP:20260422T082919Z
URL:https://business.capeannvacations.com/events/details/snacks-nutrition-with-darren-wine-and-cheese-party-16936
END:VEVENT

END:VCALENDAR
