BEGIN:VCALENDAR
VERSION:2.0
PRODID:-//ChamberMaster//Event Calendar 2.0//EN
METHOD:PUBLISH
X-PUBLISHED-TTL:P3D
REFRESH-INTERVAL:P3D
CALSCALE:GREGORIAN
BEGIN:VEVENT
DTSTART:20250127T220000Z
DTEND:20250128T020000Z
X-MICROSOFT-CDO-ALLDAYEVENT:FALSE
SUMMARY:The James Pub - $20 Burger & Beer Mondays
DESCRIPTION:Grab a Burger & a Beer for $20 on Monday Nights at The James\n\n5:00 pm - Close
X-ALT-DESC;FMTTYPE=text/html:<div><font color="#000080" face="arial"><span style="font-size: 16px\;"><b>Grab a Burger &amp\; a Beer for $20 on Monday Nights at The James<br />\n5:00 pm - Close</b></span></font></div>\n
LOCATION:The James Pub 55 Main Street Essex\, MA 01929
UID:e.2981.34601
SEQUENCE:3
DTSTAMP:20260425T034651Z
URL:https://business.capeannvacations.com/events/details/the-james-pub-burger-beer-mondays-01-27-2025-34601
END:VEVENT

END:VCALENDAR
