BEGIN:VCALENDAR
VERSION:2.0
PRODID:-//ChamberMaster//Event Calendar 2.0//EN
METHOD:PUBLISH
X-PUBLISHED-TTL:P3D
REFRESH-INTERVAL:P3D
CALSCALE:GREGORIAN
BEGIN:VEVENT
DTSTART:20250128T233000Z
DTEND:20250129T010000Z
X-MICROSOFT-CDO-ALLDAYEVENT:FALSE
SUMMARY:The James Pub - Tuesday Trivia Tap Takeover
DESCRIPTION:Plan a Trivia Night out at The James with your friends!
X-ALT-DESC;FMTTYPE=text/html:<div><font color="#000080" face="arial"><span style="font-size: 16px\;"><b>Plan a Trivia Night out at The James with your friends!</b></span></font></div>\n
LOCATION:The James Pub 55 Main Street Essex\, MA 01929
UID:e.2981.34585
SEQUENCE:3
DTSTAMP:20260425T023108Z
URL:https://business.capeannvacations.com/events/details/the-james-pub-tuesday-trivia-tap-takeover-01-28-2025-34585
END:VEVENT

END:VCALENDAR
