BEGIN:VCALENDAR
VERSION:2.0
PRODID:-//ChamberMaster//Event Calendar 2.0//EN
METHOD:PUBLISH
X-PUBLISHED-TTL:P3D
REFRESH-INTERVAL:P3D
CALSCALE:GREGORIAN
BEGIN:VEVENT
DTSTART;VALUE=DATE:20250109
DTEND;VALUE=DATE:20250110
TRANSP:TRANSPARENT
X-MICROSOFT-CDO-ALLDAYEVENT:TRUE
SUMMARY:Trustees Camp Registration Launch
DESCRIPTION:Trustees summer camp registration launches Thursday\, January 9th at 12pm for Trustees members. If you are not a member\, you can become a member while registering to receive the member discount\, or wait until January 15th for non-member registration. Our North Shore camps at Appleton Farms and The Crane Estate serve kiddos ages 4-13. Your camper is sure to make friends and lasting memories\, while forming their own unique relationship with nature\, during a week or more of outdoor exploration\, crafts\, and games\, at the coast\, farm\, and forest. https://thetrustees.org/program/massachusetts-summer-camps/
X-ALT-DESC;FMTTYPE=text/html:Trustees summer camp registration launches Thursday\, January 9th at 12pm for Trustees members. If you are not a member\, you can become a member while registering to receive the member discount\, or wait until January 15th for non-member registration. Our North Shore camps at Appleton Farms and The Crane Estate serve kiddos ages 4-13. Your camper is sure to make friends and lasting memories\, while forming their own unique relationship with nature\, during a week or more of outdoor exploration\, crafts\, and games\, at the coast\, farm\, and forest.&nbsp\;https://thetrustees.org/program/massachusetts-summer-camps/
LOCATION:SummerQuest Camp - Crane Estate\, Ipswich Appleton Farms Camp - Appleton Farms\, Ipswich Register online: https://thetrustees.org/program/massachusetts-summer-camps/
UID:e.2981.34575
SEQUENCE:3
DTSTAMP:20260425T022215Z
URL:https://business.capeannvacations.com/events/details/trustees-camp-registration-launch-34575
END:VEVENT

END:VCALENDAR
