BEGIN:VCALENDAR
VERSION:2.0
PRODID:-//ChamberMaster//Event Calendar 2.0//EN
METHOD:PUBLISH
X-PUBLISHED-TTL:P3D
REFRESH-INTERVAL:P3D
CALSCALE:GREGORIAN
BEGIN:VEVENT
DTSTART:20250119T130000Z
DTEND:20250119T150000Z
X-MICROSOFT-CDO-ALLDAYEVENT:FALSE
SUMMARY:Winter Birding Walk
DESCRIPTION:Bundle up and start your morning strolling our seaside treasure with Birding Basics. Watch and listen for various species in the field's\, woodland's and ocean's edges.  Learn about bird sounds\, habits\, and fight patterns. Enjoy extraordinary views. Bring binoculars if you have them. Rain or shine. \n\nHeavy rain/snow cancels.
X-ALT-DESC;FMTTYPE=text/html:<span style="font-size:12.0pt\;">Bundle up and start your morning strolling our seaside treasure with Birding Basics. Watch and listen for various species in the field&rsquo\;s\, woodland&rsquo\;s and ocean&rsquo\;s edges.&nbsp\; Learn about bird sounds\, habits\, and fight patterns. Enjoy extraordinary views. Bring binoculars if you have them. Rain or shine.&nbsp\;<br />\nHeavy rain/snow cancels. </span>
LOCATION:
UID:e.2981.34515
SEQUENCE:3
DTSTAMP:20260425T022335Z
URL:https://business.capeannvacations.com/events/details/winter-birding-walk-34515
END:VEVENT

END:VCALENDAR
